BEGIN:VCALENDAR
VERSION:2.0
PRODID:-//Underground Music Collective - ECPv6.15.20//NONSGML v1.0//EN
CALSCALE:GREGORIAN
METHOD:PUBLISH
X-ORIGINAL-URL:https://umcworldwide.com
X-WR-CALDESC:Events for Underground Music Collective
REFRESH-INTERVAL;VALUE=DURATION:PT1H
X-Robots-Tag:noindex
X-PUBLISHED-TTL:PT1H
BEGIN:VTIMEZONE
TZID:America/New_York
BEGIN:DAYLIGHT
TZOFFSETFROM:-0500
TZOFFSETTO:-0400
TZNAME:EDT
DTSTART:20210314T070000
END:DAYLIGHT
BEGIN:STANDARD
TZOFFSETFROM:-0400
TZOFFSETTO:-0500
TZNAME:EST
DTSTART:20211107T060000
END:STANDARD
BEGIN:DAYLIGHT
TZOFFSETFROM:-0500
TZOFFSETTO:-0400
TZNAME:EDT
DTSTART:20220313T070000
END:DAYLIGHT
BEGIN:STANDARD
TZOFFSETFROM:-0400
TZOFFSETTO:-0500
TZNAME:EST
DTSTART:20221106T060000
END:STANDARD
BEGIN:DAYLIGHT
TZOFFSETFROM:-0500
TZOFFSETTO:-0400
TZNAME:EDT
DTSTART:20230312T070000
END:DAYLIGHT
BEGIN:STANDARD
TZOFFSETFROM:-0400
TZOFFSETTO:-0500
TZNAME:EST
DTSTART:20231105T060000
END:STANDARD
END:VTIMEZONE
BEGIN:VEVENT
DTSTART;TZID=America/New_York:20220507T200000
DTEND;TZID=America/New_York:20220507T223000
DTSTAMP:20260425T181923
CREATED:20220427T184741Z
LAST-MODIFIED:20220505T203031Z
UID:126650-1651953600-1651962600@umcworldwide.com
SUMMARY:NashLive! Presents: Leah Jean and Sam Gyllenhaal Band at The Cobra Nashville
DESCRIPTION:On a regular day\, you can find Leah Jean penning a heartfelt lyric\, humming an infectious melody\, or letting her fingers find the guitar riff that will inspire a sumptuous song. Adorned with honest lyrics that hit close to home\, Leah Jean’s music resonates and stays with you far beyond the final note. Haunting vocals and harmonies soar over moody backdrops colored with undertones of bluesy jazz\, folk\, and soul.  Originally from Dayton\, Ohio\, Leah Jean brings a humble persona and fresh perspective to the Nashville music scene. \nSam Gyllenhaal Band’s pop\, rock\, and country influences inspire their songs’ cascading melodies\, driving grooves and vivid lyrics. The band likes to sing about life and love in motion — sometimes soaring\, sometimes stumbling\, but always moving forward. They’re releasing a new single every month in 2022 on all streaming platforms. Also\, a fun fact: Sam joined us last time at Cobra on April 14 as part of Nicole Boggs & The Reel! \nThis show\, just like that last one\, is free to attend. You just need to be 21 or older to enter. We’ll see you there\, and at some of NashLive!’s other upcoming shows.
URL:https://umcworldwide.com/event/nashlive-presents-leah-jean-and-sam-gyllenhaal-band-at-the-cobra-nashville/
LOCATION:Cobra Nashville\, 2511 Gallatin Ave.\, Nashville\, TN\, United States
CATEGORIES:blues,Cobra Nashville,concerts,jazz,live shows,NashLive!,pop,rock,rock shows,Shows,soul
ATTACH;FMTTYPE=image/png:https://umcworldwide.com/wp-content/uploads/2022/04/Feb.-12-cover-graphic-4.png
END:VEVENT
END:VCALENDAR