BEGIN:VCALENDAR
VERSION:2.0
PRODID:-//Underground Music Collective - ECPv6.15.20//NONSGML v1.0//EN
CALSCALE:GREGORIAN
METHOD:PUBLISH
X-ORIGINAL-URL:https://umcworldwide.com
X-WR-CALDESC:Events for Underground Music Collective
REFRESH-INTERVAL;VALUE=DURATION:PT1H
X-Robots-Tag:noindex
X-PUBLISHED-TTL:PT1H
BEGIN:VTIMEZONE
TZID:America/New_York
BEGIN:DAYLIGHT
TZOFFSETFROM:-0500
TZOFFSETTO:-0400
TZNAME:EDT
DTSTART:20210314T070000
END:DAYLIGHT
BEGIN:STANDARD
TZOFFSETFROM:-0400
TZOFFSETTO:-0500
TZNAME:EST
DTSTART:20211107T060000
END:STANDARD
BEGIN:DAYLIGHT
TZOFFSETFROM:-0500
TZOFFSETTO:-0400
TZNAME:EDT
DTSTART:20220313T070000
END:DAYLIGHT
BEGIN:STANDARD
TZOFFSETFROM:-0400
TZOFFSETTO:-0500
TZNAME:EST
DTSTART:20221106T060000
END:STANDARD
BEGIN:DAYLIGHT
TZOFFSETFROM:-0500
TZOFFSETTO:-0400
TZNAME:EDT
DTSTART:20230312T070000
END:DAYLIGHT
BEGIN:STANDARD
TZOFFSETFROM:-0400
TZOFFSETTO:-0500
TZNAME:EST
DTSTART:20231105T060000
END:STANDARD
END:VTIMEZONE
BEGIN:VEVENT
DTSTART;TZID=America/New_York:20220619T190000
DTEND;TZID=America/New_York:20220619T230000
DTSTAMP:20260425T193606
CREATED:20220506T133600Z
LAST-MODIFIED:20220506T133600Z
UID:126807-1655665200-1655679600@umcworldwide.com
SUMMARY:NashLive! Presents: Pepperwood\, Ali Aslam\, and Mary Jennings at The East Room
DESCRIPTION:On Sunday\, June 19\, NashLive! will return to The East Room to present an eclectic lineup featuring Pepperwood\, Ali Aslam\, and Mary Jennings. \nPepperwood\, the brainchild of Nashville native songwriter Zach Wyatt\, has been described as many things — and most of them good. They have a hard time fitting into a specific sound\, as every band member listens to a wide range of genres with influences peppered throughout\, but they’ve been compared to Relient K\, Kings of Leon\, Colony House\, Temper Trap\, and others. You may also recall that they joined NashLive! in April at The Cobra alongside Nicole Boggs & The Reel\, and they tore it up! \nAli Aslam’s nuanced and expansive debut record\, The Last American\, easily holds seemingly conflicting but ultimately congruent perspectives in hand. One of the most optimistic\, yet daunting themes across the record lies in the idea that we are ultimately responsible for the world we create. Aslam’s songs let us know we’re doing okay\, but we can do better. “Is this what everybody’s dreaming?” he challenges us. Can we dream bigger\, more inclusively\, more expansively? \nWith a big voice and passionate\, honest words\, Mary Jennings is a fiery siren that packs a big punch with her small frame. Her highly personal and emotional singing style is raw and captivating. After years of touring and releasing music\, she has come home and carved out her space in the Nashville scene.
URL:https://umcworldwide.com/event/nashlive-presents-pepperwood-ali-aslam-and-mary-jennings-at-the-east-room/
LOCATION:The East Room\, 2412 Gallatin Ave.\, Nashville\, TN\, United States
CATEGORIES:Americana,concerts,folk,live shows,NashLive!,pop,rock,rock shows,Shows,The East Room
ATTACH;FMTTYPE=image/png:https://umcworldwide.com/wp-content/uploads/2022/05/NashLive-cover-graphics.png
END:VEVENT
END:VCALENDAR