BEGIN:VCALENDAR
VERSION:2.0
PRODID:-//Underground Music Collective - ECPv6.15.20//NONSGML v1.0//EN
CALSCALE:GREGORIAN
METHOD:PUBLISH
X-ORIGINAL-URL:https://umcworldwide.com
X-WR-CALDESC:Events for Underground Music Collective
REFRESH-INTERVAL;VALUE=DURATION:PT1H
X-Robots-Tag:noindex
X-PUBLISHED-TTL:PT1H
BEGIN:VTIMEZONE
TZID:America/New_York
BEGIN:DAYLIGHT
TZOFFSETFROM:-0500
TZOFFSETTO:-0400
TZNAME:EDT
DTSTART:20210314T070000
END:DAYLIGHT
BEGIN:STANDARD
TZOFFSETFROM:-0400
TZOFFSETTO:-0500
TZNAME:EST
DTSTART:20211107T060000
END:STANDARD
BEGIN:DAYLIGHT
TZOFFSETFROM:-0500
TZOFFSETTO:-0400
TZNAME:EDT
DTSTART:20220313T070000
END:DAYLIGHT
BEGIN:STANDARD
TZOFFSETFROM:-0400
TZOFFSETTO:-0500
TZNAME:EST
DTSTART:20221106T060000
END:STANDARD
BEGIN:DAYLIGHT
TZOFFSETFROM:-0500
TZOFFSETTO:-0400
TZNAME:EDT
DTSTART:20230312T070000
END:DAYLIGHT
BEGIN:STANDARD
TZOFFSETFROM:-0400
TZOFFSETTO:-0500
TZNAME:EST
DTSTART:20231105T060000
END:STANDARD
END:VTIMEZONE
BEGIN:VEVENT
DTSTART;TZID=America/New_York:20220624T200000
DTEND;TZID=America/New_York:20220625T000000
DTSTAMP:20260425T220749
CREATED:20220504T002244Z
LAST-MODIFIED:20220620T160550Z
UID:126757-1656100800-1656115200@umcworldwide.com
SUMMARY:NashLive! Presents: Deidre\, Krantz\, and DaChri at The Cobra Nashville
DESCRIPTION:Deidre is a pop/alternative artist from the Washington\, D.C. area who recently relocated to Nashville. Driven to start a new chapter in her life\, the fearless 22-year-old is using her strong\, bold voice to express her emotions emanated from her most challenging moments. Her determination to be heard is the prominent theme of her upcoming projects\, which she hopes will encourage others to face toxic relationships with strength and to never stop believing in themselves. \nKrantz can best be described as “rock ‘n roll in color from Music City\, USA.” His new single\, “Girlfriend\,” was recently released to all streaming platforms\, and the captivating live performer can always be called upon to bring potent energy and high-quality musicianship to the stage\, as was the case when he last joined us at The High Watt in February. \nHailing from Detroit\, Michigan\, DaChri is just an eclectic soul trying to make his mark on the world. Drawing inspiration from the likes Michael Jackson\, Boyz II Men\, The Beatles\, Pharrell\, Ed Sheeran\, Justin Timberlake\, Drake\, and Kanye; DaChri blends elements of pop\, R&B\, alternative\, and hip hop with his own singer-songwriter flair to help steer his sound. The self-proclaimed “Black Bieber” is sure to get you up and dancing with his infectious soundtrack. Now residing in Nashville — and surrounded by some of the best songwriters and producers in the world — DaChri is cultivating classics that are sure to be around for ages. \nGet your tickets here for just $10!
URL:https://umcworldwide.com/event/nashlive-presents-deidre-krantz-and-dachri-at-the-cobra-nashville/
LOCATION:Cobra Nashville\, 2511 Gallatin Ave.\, Nashville\, TN\, United States
CATEGORIES:Cobra Nashville,concerts,hip hop,live shows,NashLive!,pop,R&B,rock,rock shows,soul
ATTACH;FMTTYPE=image/png:https://umcworldwide.com/wp-content/uploads/2022/05/Feb.-12-cover-graphic-3.png
END:VEVENT
END:VCALENDAR