BEGIN:VCALENDAR
VERSION:2.0
PRODID:-//Underground Music Collective - ECPv6.15.20//NONSGML v1.0//EN
CALSCALE:GREGORIAN
METHOD:PUBLISH
X-ORIGINAL-URL:https://umcworldwide.com
X-WR-CALDESC:Events for Underground Music Collective
REFRESH-INTERVAL;VALUE=DURATION:PT1H
X-Robots-Tag:noindex
X-PUBLISHED-TTL:PT1H
BEGIN:VTIMEZONE
TZID:America/New_York
BEGIN:DAYLIGHT
TZOFFSETFROM:-0500
TZOFFSETTO:-0400
TZNAME:EDT
DTSTART:20200308T070000
END:DAYLIGHT
BEGIN:STANDARD
TZOFFSETFROM:-0400
TZOFFSETTO:-0500
TZNAME:EST
DTSTART:20201101T060000
END:STANDARD
BEGIN:DAYLIGHT
TZOFFSETFROM:-0500
TZOFFSETTO:-0400
TZNAME:EDT
DTSTART:20210314T070000
END:DAYLIGHT
BEGIN:STANDARD
TZOFFSETFROM:-0400
TZOFFSETTO:-0500
TZNAME:EST
DTSTART:20211107T060000
END:STANDARD
BEGIN:DAYLIGHT
TZOFFSETFROM:-0500
TZOFFSETTO:-0400
TZNAME:EDT
DTSTART:20220313T070000
END:DAYLIGHT
BEGIN:STANDARD
TZOFFSETFROM:-0400
TZOFFSETTO:-0500
TZNAME:EST
DTSTART:20221106T060000
END:STANDARD
BEGIN:DAYLIGHT
TZOFFSETFROM:-0500
TZOFFSETTO:-0400
TZNAME:EDT
DTSTART:20230312T070000
END:DAYLIGHT
BEGIN:STANDARD
TZOFFSETFROM:-0400
TZOFFSETTO:-0500
TZNAME:EST
DTSTART:20231105T060000
END:STANDARD
BEGIN:DAYLIGHT
TZOFFSETFROM:-0500
TZOFFSETTO:-0400
TZNAME:EDT
DTSTART:20240310T070000
END:DAYLIGHT
BEGIN:STANDARD
TZOFFSETFROM:-0400
TZOFFSETTO:-0500
TZNAME:EST
DTSTART:20241103T060000
END:STANDARD
BEGIN:DAYLIGHT
TZOFFSETFROM:-0500
TZOFFSETTO:-0400
TZNAME:EDT
DTSTART:20250309T070000
END:DAYLIGHT
BEGIN:STANDARD
TZOFFSETFROM:-0400
TZOFFSETTO:-0500
TZNAME:EST
DTSTART:20251102T060000
END:STANDARD
BEGIN:DAYLIGHT
TZOFFSETFROM:-0500
TZOFFSETTO:-0400
TZNAME:EDT
DTSTART:20260308T070000
END:DAYLIGHT
BEGIN:STANDARD
TZOFFSETFROM:-0400
TZOFFSETTO:-0500
TZNAME:EST
DTSTART:20261101T060000
END:STANDARD
END:VTIMEZONE
BEGIN:VEVENT
DTSTART;TZID=America/New_York:20251011T200000
DTEND;TZID=America/New_York:20251011T223000
DTSTAMP:20260420T180649
CREATED:20250917T175056Z
LAST-MODIFIED:20250917T175056Z
UID:146401-1760212800-1760221800@umcworldwide.com
SUMMARY:Sound & Color: A Tribute to Alabama Shakes
DESCRIPTION:Organized by Rhythm & Moon Music\, Sound & Color: A Tribute to Alabama Shakes features an all-star lineup of Music City’s musicians and vocalists\, as they pay homage to the band’s unique legacy. \nFull lineup details will be announced soon!
URL:https://umcworldwide.com/event/sound-color-a-tribute-to-alabama-shakes/
LOCATION:Acme Feed & Seed\, 101 Broadway\, Nashville\, TN\, United States
CATEGORIES:Americana,Best of Nashville,concerts,folk,live shows,Music Industry,rock,rock shows,Shows,soul
ATTACH;FMTTYPE=image/png:https://umcworldwide.com/wp-content/uploads/2025/09/ALShakes_OfficialPoster_070825.png
END:VEVENT
BEGIN:VEVENT
DTSTART;TZID=America/New_York:20250709T210000
DTEND;TZID=America/New_York:20250710T000000
DTSTAMP:20260420T180649
CREATED:20250702T164629Z
LAST-MODIFIED:20250702T164629Z
UID:145437-1752094800-1752105600@umcworldwide.com
SUMMARY:Brother Dusty: The Release WHOA
DESCRIPTION:Immediately following our UnderDogs Across Borders benefit concert\, head to The Underdog (3206 Gallatin Ave.\, Nashville) as Brother Dusty celebrates his birthday with a release party for his new music video\, “Whoa.” \nDusty will be joined by a dynamic multi-genre lineup of artists\, plus vendors and other fixtures in Nashville’s creative community — uniting Music City’s creative landscape under one roof.
URL:https://umcworldwide.com/event/brother-dusty-the-release-whoa/
LOCATION:The UnderDog\, 3208 Gallatin Ave.\, Nashville\, TN\, United States
CATEGORIES:Americana,concerts,country,hip hop,jazz,live shows,Music Industry,new release,rock,Shows,The Underdog
ATTACH;FMTTYPE=image/jpeg:https://umcworldwide.com/wp-content/uploads/2025/07/Title.zip-10.jpg
END:VEVENT
BEGIN:VEVENT
DTSTART;TZID=America/New_York:20250430T180000
DTEND;TZID=America/New_York:20250430T210000
DTSTAMP:20260420T180649
CREATED:20250411T171928Z
LAST-MODIFIED:20250422T153003Z
UID:144483-1746036000-1746046800@umcworldwide.com
SUMMARY:UnderDogs @ The Underdog
DESCRIPTION:Join Underground Music Collective at The UnderDog on Wednesday\, April 30 for a special networking mixer and writers round\, in celebration of our creative community! \n6 p.m.: Doors open for networking!\n7 p.m.: ARREIS\, Kfhox\, Timothy Myles\, Virtues\n8 p.m.: Adam Lawrence\, Da’ Healerz\, Kelsey Muse\, Nicolas Soul \n$10 tickets: https://www.eventbrite.com/e/1334045047649/ \nFREE for UnderDogs members! JOIN NOW
URL:https://umcworldwide.com/event/underdogs-the-underdog/
LOCATION:The UnderDog\, 3208 Gallatin Ave.\, Nashville\, TN\, United States
CATEGORIES:Americana,concerts,folk,heal hop,hip hop,live shows,Music Industry,Music Industry Education,Networking Events,pop,R&B,rock,Shows,The Underdog,UMC Community,UMC UnderDogs,UnderDogs community
ATTACH;FMTTYPE=image/png:https://umcworldwide.com/wp-content/uploads/2025/04/@.png
END:VEVENT
BEGIN:VEVENT
DTSTART;TZID=America/New_York:20250417T183000
DTEND;TZID=America/New_York:20250417T213000
DTSTAMP:20260420T180649
CREATED:20250328T181349Z
LAST-MODIFIED:20250328T181349Z
UID:144282-1744914600-1744925400@umcworldwide.com
SUMMARY:NEXT2RISE Artist Spotlight: Amelia Ray Live at the Tracks (w/ Kathy Zhou)
DESCRIPTION:UMC NEXT2RISE Artist Ambassador Amelia Ray joins Kathy Zhou for the Central Station Hotel’s Live at the Tracks series. Enjoy craft cocktails and soulful songs from these award-winning musicians in downtown Memphis’s most stylish location.
URL:https://umcworldwide.com/event/next2rise-artist-spotlight-amelia-ray-live-at-the-tracks-w-kathy-zhou/
LOCATION:Central Station Hotel\, 545 Main St.\, Memphis\, TN\, United States
CATEGORIES:Americana,concerts,folk,live shows,Music Industry,Next2Rise,rock,Shows,UMC UnderDogs
ATTACH;FMTTYPE=image/png:https://umcworldwide.com/wp-content/uploads/2025/03/Amelia-Ray-and-Kathy-Zhou.png
END:VEVENT
BEGIN:VEVENT
DTSTART;TZID=America/New_York:20250413T170000
DTEND;TZID=America/New_York:20250413T190000
DTSTAMP:20260420T180649
CREATED:20250328T161953Z
LAST-MODIFIED:20250328T161953Z
UID:144274-1744563600-1744570800@umcworldwide.com
SUMMARY:NEXT2RISE Artist Spotlight: Amelia Ray at VinoRosso
DESCRIPTION:NEXT2RISE Artist Amelia Ray pops into the premiere Bernal Heights destination for fine Italian wine and antipasti to perform a very special\, intimate\, FREE show for friends and family. Don’t miss this one-of-a-kind experience.
URL:https://umcworldwide.com/event/next2rise-artist-spotlight-amelia-ray-at-vinorosso/
LOCATION:VinoRosso\, 629 Cortland Ave.\, San Francisco\, CA\, United States
CATEGORIES:Americana,concerts,folk,live shows,Music Industry,Next2Rise,rock,Shows,UMC Academy,UMC UnderDogs
ATTACH;FMTTYPE=image/jpeg:https://umcworldwide.com/wp-content/uploads/2025/03/Amelia-Ray-at-VinoRosso.jpg
END:VEVENT
BEGIN:VEVENT
DTSTART;TZID=America/New_York:20250403T180000
DTEND;TZID=America/New_York:20250403T210000
DTSTAMP:20260420T180649
CREATED:20250320T194151Z
LAST-MODIFIED:20250403T172159Z
UID:144121-1743703200-1743714000@umcworldwide.com
SUMMARY:Nashville All-Starr Round Writers Night
DESCRIPTION:Calling all music lovers\, songwriters\, and fans of Nashville’s vibrant creative community!\n\nWe’re thrilled to be a part of the first-ever Nashville All-Starr Round—a one-of-a-kind night of music\, networking\, and community-building — featuring nine local all-star songwriters showcasing their incredible talents.\n\nHosted by Stephie G.\, night will be filled with three rounds of exciting live performances. Featured songwriters include…\n\n\n6 p.m. (Folk & Americana): Mikayla Lewis\, Riley Olena\, & Aaron Benjamin7 p.m. (Soul and R&B): Luke Parrish\, David Skinner\, & Lexi Trigg8 p.m. (Indie Rock): Jackie Saturday\, Matt Nagy\, & Heather Liebensohn\n\n\nThe Nashville All-Starr Round is an opportunity to mMeet and connect with other songwriters\, musicians\, and creatives in the area! Whether you’re looking to collaborate\, share ideas\, or just enjoy the music\, this event is the perfect opportunity to expand your network and be inspired.\n\nIt’s all-ages\, there is delicious food onsite at MaeMax Market\, and there’s FREE parking! What more could you want? RSVP here!\n\nSponsored by Life Literacy Education\, with media support from Underground Music Collective.
URL:https://umcworldwide.com/event/nashville-all-starr-round-writers-night/
LOCATION:MaeMax Market\, 2106 Gallatin Pike\, Madison\, TN\, United States
CATEGORIES:Americana,concerts,folk,live shows,Music Industry,Music Industry Education,Nashville All-Starr Round,R&B,rock,rock shows,writers round
ATTACH;FMTTYPE=image/jpeg:https://umcworldwide.com/wp-content/uploads/2025/03/487040502_122116201634794735_4736196397433697960_n.jpg
END:VEVENT
BEGIN:VEVENT
DTSTART;TZID=America/New_York:20221003T203000
DTEND;TZID=America/New_York:20221003T220000
DTSTAMP:20260420T180649
CREATED:20220730T201719Z
LAST-MODIFIED:20220912T025027Z
UID:128251-1664829000-1664834400@umcworldwide.com
SUMMARY:NashLive! Takeover: A Special Writers Round at The Listening Room
DESCRIPTION:NashLive! will be taking over Nashville’s iconic The Listening Room Cafe on Monday\, October 3 with a special writers round event — featuring songwriters from here in Nashville… and beyond! \nTICKETS\nBilly Bauer is a Bethlehem\, PA-based songwriter and the frontman of Billy Bauer Band\, an acoustic rock quartet who has opened for the likes of Tim Reynolds\, Phillip Phillips\, Third Eye Blind\, and many more\, and whose popular Dave Matthews Band tribute show sells out venues across eastern Pennsylvania. Billy will bring his Martin Guitar all the way to Nashville to perform selections from the band’s catalog\, which dates all the way back to 2006’s full-length debut\, Another Day is Coming. \nErin McLendon is a country artist\, entrepreneur\, and co-founder of Music on the Move Studios\, a community organization which provides educational and performance opportunities to Nashville’s robust community of female musicians and entrepreneurs. Erin is gearing up to release a new album later this summer\, with the first two singles — “Millie” and “Sunday Crowd” — available for streaming everywhere! \nSpeaking of powerhouse female musicians-slash-entrepreneurs\, J.Antonette certainly fits the description. Not only is the New York native a force to be reckoned with on the pop country circuit — her latest single\, “Heartbroken in a Honky Tonk\,” is out now — but she is the founder of Native Manor\, a boutique entertainment company based in Nashville and New York City\, and Bundle Up Nash\, a charitable organization known for its holiday clothing and toy drives. \nGrowing up in a self-described “wacky\, doomsday Bible cult\,” Wesley David sought refuge through music. His passion has served him well — for many years\, Wes has toured the country performing his whimsical\, tongue-in-cheek blend of pop and rock for live audiences of all shapes and sizes. This October\, he’ll join us as he hits the road in advance of his 6-song EP\, Satori\, due out later this year.
URL:https://umcworldwide.com/event/nashlive-takeover-a-special-writers-round-at-the-listening-room/
LOCATION:The Listening Room\, 618 4th Ave. S.\, Nashville\, TN\, United States
CATEGORIES:Americana,concerts,country,live shows,NashLive!,NashLive! Takeover,rock,Shows,The Listening Room,writers round
ATTACH;FMTTYPE=image/png:https://umcworldwide.com/wp-content/uploads/2022/07/NashLive-Takeover-Oct-3.png
END:VEVENT
BEGIN:VEVENT
DTSTART;TZID=America/New_York:20220927T200000
DTEND;TZID=America/New_York:20220927T233000
DTSTAMP:20260420T180649
CREATED:20220913T152614Z
LAST-MODIFIED:20220913T152614Z
UID:128714-1664308800-1664321400@umcworldwide.com
SUMMARY:NashLive! x Music City Movement Present: Edgar Derby\, Aaron Friend & The Enemies\, and Leoncarlo at The Cobra Nashville
DESCRIPTION:On Tuesday\, September 27\, we’ll head back to The Cobra Nashville to bring you a diversified lineup featuring the talents of Nashville’s Aaron Friend & The Enemies\, in between touring artists Edgar Derby and Leoncarlo. \nEdgar Derby has been making music for over two decades. He was born and raised in El Paso\, Texas\, and is currently based in Denton\, Texas. Derby’s music fuses acoustic\, lyric-based folk with a unique songwriting style and energetic performances. He treats a live audience to a multi-instrumental show that includes vocals\, guitars\, a resonator\, and harmonicas. Edgar Derby’s sophomore LP\, Dancing in Death/The Place Where the River Makes a Sound\, was released February 13\, 2021. \nUrgent\, uplifting\, and wildly anthemic\, the music of Aaron Friend & The Enemies radiates a brilliant energy that boldly amplifies its emotional power. With captivating vocals and soul-baring lyrics\, Nashville-based singer\, songwriter\, and producer Aaron Friend created his latest body of work after a period of personal upheaval and self-discovery\, channeling his deepest pain and uncertainty into songs that question\, confront\, and endlessly illuminate. The result: an essential soundtrack to self-reflection\, raw catharsis\, and life-changing transformation. \nLeoncarlo is a musician\, violinist\, and educator based in North Texas. His career took shape while attending the University of North Texas for violin\, as Leoncarlo would begin to travel nationwide\, performing and speaking at reputable events such as SXSW Festival in Texas\, Telluride Bluegrass Festival in Colorado\, TEDx Conference in Fargo\, and more. He has had the honor of collaboration with esteemed musical acts like Polyphonic Spree\, Alejandro Escovedo\, and Melanie Safka\, to name a few. Off stage\, Leoncarlo offers various audio production work\, as well as music lessons at Soundbox MusicWorks (formerly known as Bonduris School of Music) in Denton\, TX. \nTickets for this show are just $10\, and you must be 21 or older to enter. Doors are at 8 p.m.\, with music promptly kicking off at 8:30 p.m.
URL:https://umcworldwide.com/event/nashlive-x-music-city-movement-present-edgar-derby-aaron-friend-the-enemies-and-leoncarlo-at-the-cobra-nashville/
LOCATION:Cobra Nashville\, 2511 Gallatin Ave.\, Nashville\, TN\, United States
CATEGORIES:Americana,Cobra Nashville,folk,live shows,Music City Movement,NashLive!,pop,rock,rock shows,Shows
ATTACH;FMTTYPE=image/png:https://umcworldwide.com/wp-content/uploads/2022/09/Sept.-27-cover-graphic.png
END:VEVENT
BEGIN:VEVENT
DTSTART;TZID=America/New_York:20220831T190000
DTEND;TZID=America/New_York:20220831T230000
DTSTAMP:20260420T180649
CREATED:20220730T203036Z
LAST-MODIFIED:20220730T203036Z
UID:128260-1661972400-1661986800@umcworldwide.com
SUMMARY:Music on the Move Showcase: LBGTQ Edition ft. Lord Goldie\, Lauren Horbal\, and Liv Greene
DESCRIPTION:Last month\, Music on the Move Studios was set to bring a Pride-themed LGBTQ showcase to BentoLiving Chestnut Hill\, but then… COVID happened. \nThat’s the bad news. The good news is that the show is now rescheduled for The East Room on Wednesday\, August 31. \nStill joining Erin McLendon & The HellCats will be Lord Goldie\, Lauren Horbal\, and Liv Greene. The event is also set to feature pop-up shops from a host of Nashville-based\, female-owned businesses. \nTickets are $10\, and can be purchased at this link.
URL:https://umcworldwide.com/event/music-on-the-move-showcase-lbgtq-edition-ft-lord-goldie-lauren-horbal-and-liv-greene/
LOCATION:The East Room\, 2412 Gallatin Ave.\, Nashville\, TN\, United States
CATEGORIES:Americana,country,hip hop,live shows,Music on the Move Studios,rock,rock shows,Shows,The East Room
ATTACH;FMTTYPE=image/jpeg:https://umcworldwide.com/wp-content/uploads/2022/07/NewAugust31Flyer.jpg
END:VEVENT
BEGIN:VEVENT
DTSTART;TZID=America/New_York:20220721T210000
DTEND;TZID=America/New_York:20220722T000000
DTSTAMP:20260420T180649
CREATED:20220318T152808Z
LAST-MODIFIED:20220713T200835Z
UID:124323-1658437200-1658448000@umcworldwide.com
SUMMARY:NashLive! Presents: Greasediver\, The Mad Sugars\, and Forts Like Vana at The 5 Spot
DESCRIPTION:NashLive! will be back at The 5 Spot on Thursday\, July 21 — and it will be a rock and roll party! \nOut of the flooded\, beer can strewn basements Nashville stumbles Greasediver. Emmett Rozelle sings and plays most of the instruments on their 2021 album\, In the Wake of the Past\, but he couldn’t have done it without the help of his friends. His partners in crime include but are not limited to: Zach D’Amico (engineering\, production\, drums)\, Peter Piscitelli (bass guitar)\, and Ian Colt (artwork\, cover design\, and the latest in a long line of celebrated Trench Dwellers). \nThe Mad Sugars are the songwriting vehicle of Adam Lawrence\, combining the dance rock of Franz Ferdinand\, the garage punk of The Hives\, and the vocal harmonies and party vibes of The B-52s as a backdrop for stories of nightlife misadventures. Hailing originally from NJ\, and later NYC\, Adam then relocated from New York to Nashville in 2017 and re-formed the band\, releasing Reboot in October of 2021\, containing reimagined renditions of older songs for the new Nashville audience. In recent years\, Adam has placed his songs in TV shows such as The Crazy Ex-Girlfriend\, Chicago Fire\, and Search Party\, and is finishing work on the band’s first full length album\, to be released in the fall of 2022. \nForts Like Vana are known around town for their lively stage performances and raw\, yet polished sound. In fact\, they bring the fire every time they join us for a NashLive! show! \nTickets for this one are $10 at the door\, and you must be 21 or older to enter. The fun starts at 9 p.m.\, and we hope you’ll join us!
URL:https://umcworldwide.com/event/nashlive-presents-greasediver-the-mad-sugars-and-american-goon-at-the-5-spot/
LOCATION:The 5 Spot\, 1006 Forrest Ave.\, Nashville\, TN\, 37206\, United States
CATEGORIES:Americana,concerts,live shows,NashLive!,rock,rock shows,Shows,The 5 Spot
ATTACH;FMTTYPE=image/png:https://umcworldwide.com/wp-content/uploads/2022/03/July-21-cover-graphic-1.png
END:VEVENT
BEGIN:VEVENT
DTSTART;TZID=America/New_York:20220619T190000
DTEND;TZID=America/New_York:20220619T230000
DTSTAMP:20260420T180649
CREATED:20220506T133600Z
LAST-MODIFIED:20220506T133600Z
UID:126807-1655665200-1655679600@umcworldwide.com
SUMMARY:NashLive! Presents: Pepperwood\, Ali Aslam\, and Mary Jennings at The East Room
DESCRIPTION:On Sunday\, June 19\, NashLive! will return to The East Room to present an eclectic lineup featuring Pepperwood\, Ali Aslam\, and Mary Jennings. \nPepperwood\, the brainchild of Nashville native songwriter Zach Wyatt\, has been described as many things — and most of them good. They have a hard time fitting into a specific sound\, as every band member listens to a wide range of genres with influences peppered throughout\, but they’ve been compared to Relient K\, Kings of Leon\, Colony House\, Temper Trap\, and others. You may also recall that they joined NashLive! in April at The Cobra alongside Nicole Boggs & The Reel\, and they tore it up! \nAli Aslam’s nuanced and expansive debut record\, The Last American\, easily holds seemingly conflicting but ultimately congruent perspectives in hand. One of the most optimistic\, yet daunting themes across the record lies in the idea that we are ultimately responsible for the world we create. Aslam’s songs let us know we’re doing okay\, but we can do better. “Is this what everybody’s dreaming?” he challenges us. Can we dream bigger\, more inclusively\, more expansively? \nWith a big voice and passionate\, honest words\, Mary Jennings is a fiery siren that packs a big punch with her small frame. Her highly personal and emotional singing style is raw and captivating. After years of touring and releasing music\, she has come home and carved out her space in the Nashville scene.
URL:https://umcworldwide.com/event/nashlive-presents-pepperwood-ali-aslam-and-mary-jennings-at-the-east-room/
LOCATION:The East Room\, 2412 Gallatin Ave.\, Nashville\, TN\, United States
CATEGORIES:Americana,concerts,folk,live shows,NashLive!,pop,rock,rock shows,Shows,The East Room
ATTACH;FMTTYPE=image/png:https://umcworldwide.com/wp-content/uploads/2022/05/NashLive-cover-graphics.png
END:VEVENT
BEGIN:VEVENT
DTSTART;TZID=America/New_York:20220127T180000
DTEND;TZID=America/New_York:20220127T220000
DTSTAMP:20260420T180649
CREATED:20220112T151910Z
LAST-MODIFIED:20220112T161105Z
UID:122139-1643306400-1643320800@umcworldwide.com
SUMMARY:Music on the Move\, Hosted by Erin McLendon & The HellCats
DESCRIPTION:Created and hosted by rising Americana/country artist Erin McLendon\, Music on the Move (formerly Women on Fire) serves as a pivotal platform for local female musicians and entrepreneurs to share their talents. \nBacked by all female band members\, event planners\, and vendors\, the quarterly event has featured artists like Katie Basden\, Lexi Larsen\, Rachele Lynae\, April Kry\, Brinn Black\, Jenny Teator\, and Bee Taylor. \nOn Thursday\, January 27\, Music on the Move is back with a full band at a new venue! The showcase will make its debut at Analog Nashville\, and will feature the talents of Nashville-based artists\, including: \nCharlotte Morris\nEle Ivory\nEvyIvy\nThe Daily Fare\n\n\nEach artist will be backed by the Music on the Move all-female house band\, The HellCats. The event will also feature female-owned businesses\, showing support for female creatives of all disciplines. \nTickets for the Jan. 27 Music on the Move Showcase are on sale now for $10 advance\, and $12 day of show. Doors open at 6 p.m.\, with music beginning at 7 p.m. Get your tickets below! \n\nTICKETS
URL:https://umcworldwide.com/event/music-on-the-move-hosted-by-erin-mclendon-the-hellcats/
LOCATION:Analog Nashville\, 1808 West End Avenue\, Nashville\, TN\, 37203\, United States
CATEGORIES:Americana,country,Music on the Move Studios,pop,rock,rock shows,Shows
ATTACH;FMTTYPE=image/png:https://umcworldwide.com/wp-content/uploads/2022/01/JAN-27TH-LINEUP-1920-x-1080-px1.png
END:VEVENT
BEGIN:VEVENT
DTSTART;TZID=America/New_York:20211020T200000
DTEND;TZID=America/New_York:20211021T000000
DTSTAMP:20260420T180649
CREATED:20210917T180414Z
LAST-MODIFIED:20210927T033819Z
UID:119465-1634760000-1634774400@umcworldwide.com
SUMMARY:NashLive! Presents: Skylar Gregg\, Charles Ellsworth\, and The Daily Fare
DESCRIPTION:It’s an Americana showcase in the heart of East Nashville on Wednesday\, October 20\, when Skylar Gregg\, Charles Ellsworth\, and The Daily Fare join us at The Cobra! \nSkylar Gregg engages in a gripping cocktail of hard work\, humor\, and self discovery\, expressing vivid lyrical imagery and raw grit that soaks into every note of her songwriting. The Nashville-based musician translates that into a mixed bag of retro southern music immersed in old soul\, 60’s and 70’s country and blues. \nCharles Ellsworth is an NYC transplant by way of the White Mountains of Arizona where he was raised on Mormon hymns and Top 40 country music. A storyteller by nature\, Ellsworth’s lyrics and near-familiar melodies weave to tell stories of heartbreak and loneliness\, while shining a light on the perseverance of the human spirit. A self-proclaimed “recovering toxic sadboy” — Ellsworth’s music has evolved with him. Through sobriety and self-exploration\, Ellsworth has shifted from writing songs lamenting “the ones that got away\,” to singing honest reflections about what caused them to leave and doing the work to be better. \nNorthern-born songwriters Alissa Abeler and Hannah Smith joined creative forces to form the duo now known as The Daily Fare. The pair grew up on opposite sides of the music world\, with influences ranging from Judy Garland and Adele to Beethoven and Bach\, with a healthy dose of Broadway\, punk cabaret\, and 80s ballads sprinkled in the mix. \nTheir shared affection for poignant and evocative narrative teamed with years of playing small intimate shows have transformed the once-placid duo’s sound into the story-weaving powerhouse they are today. With characteristically unique vocal harmonies and engaging instrumentation\, The Daily Fare are carving out a niche for themselves within the Americana genre while their honest and occasionally eccentric approach to storytelling continues to engage new listeners on this creative journey. Their sound has been compared to First Aid Kit\, The Milk Carton Kids\, and The Civil Wars. \n$10 at the door | 21+ to enter
URL:https://umcworldwide.com/event/live-from-the-615-presents-skylar-gregg-charles-ellsworth-and-the-daily-fare/
LOCATION:Cobra Nashville\, 2511 Gallatin Ave.\, Nashville\, TN\, United States
CATEGORIES:Americana,blues,Cobra Nashville,concerts,country,Live from the 615,live shows,Shows,soul
ATTACH;FMTTYPE=image/png:https://umcworldwide.com/wp-content/uploads/2021/09/Music-Fest-Student-Council-Poster.png
END:VEVENT
BEGIN:VEVENT
DTSTART;TZID=America/New_York:20211002T130000
DTEND;TZID=America/New_York:20211003T000000
DTSTAMP:20260420T180649
CREATED:20210823T150809Z
LAST-MODIFIED:20210927T033714Z
UID:118932-1633179600-1633219200@umcworldwide.com
SUMMARY:615Fest\, Presented by NashLive! and Music City Movement
DESCRIPTION:It’s time to hit you with our biggest\, baddest\, most exciting live event since we landed in Nashville. \nGet ready for 615Fest\, presented at The East Room by NashLive! and Music City Movement! \nOn Saturday\, October 2\, we’ll host an all-day (and all-night) indie music extravaganza featuring 10 of Nashville’s most exciting independent acts across the rock\, pop\, and Americana genres. Doors open at 1 p.m.\, with music beginning at 2 p.m. in the East Room’s courtyard\, before coming inside for the night shift and lasting all the way up until midnight. We’ll have vendors and other surprises in store\, and it will all add up to make this\, without question\, the place to be in Nashville on October’s first Saturday. \nOur inaugural 615Fest lineup features the talents of: \nFresh Lady\nCarrie Welling\nJarrod Dickenson\nChristie Huff\nTROY\nBorrowed Sparks\nStray Nova\nBeyond Here\nCatalina\nThe Love-In \nDay passes for 615Fest are $20\, and will be available for pre-sale starting Monday\, August 30 at 10 a.m. CT. Day passes will also be available at the door. Mark your calendars and be sure to join us for the biggest show of the fall! \nGET TICKETS NOW
URL:https://umcworldwide.com/event/615fest-presented-by-live-from-the-615-and-music-city-movement/
LOCATION:The East Room\, 2412 Gallatin Ave.\, Nashville\, TN\, United States
CATEGORIES:615Fest,Americana,concerts,Live from the 615,live shows,pop,rock,rock shows,Shows,The East Room
ATTACH;FMTTYPE=image/png:https://umcworldwide.com/wp-content/uploads/2021/08/615Fest-Oct-2-2021-5.png
END:VEVENT
BEGIN:VEVENT
DTSTART;TZID=America/New_York:20210425T180000
DTEND;TZID=America/New_York:20210425T193000
DTSTAMP:20260420T180649
CREATED:20210420T155844Z
LAST-MODIFIED:20210420T155844Z
UID:109573-1619373600-1619379000@umcworldwide.com
SUMMARY:Carrie Welling: "Good To Me" Video Release Show
DESCRIPTION:Join Carrie Welling with her band in celebrating the release of the “Good To Me” music video! \n\n\n\n\nGET TICKETS\n\n\n\n\nwww.carriewelling.com \nTicket types:\n$20 Standard ticket: Ticket & recording of the show \n$50 VIP M&G Ticket:  Group Meet and greet before the show\, ticket + recording of the show. \n$100 VIP M&G GTM Package:  Handmade Good To Me Candle\, group meet and greet before the show\, signed show poster by Carrie and all band members\, ticket & recording of the show. \nAll patrons who purchase a $50 or $100 VIP ticket will receive a free handmade GTM popsocket. (exclusive to patrons only – patreon.com/carriewelling) \nWhen you purchase a ticket\, a link will be emailed to you by ticketleap on your receipt. \nGroup Meet and Greet Details: The group meet and greet will be at 5:00 CST. If you purchase a VIP M & G ticket\, a separate link will be emailed near the show date with more details. \nEmail carriewellingbooking@gmail.com for any questions.
URL:https://umcworldwide.com/event/carrie-welling-good-to-me-video-release-show/
LOCATION:Online
CATEGORIES:Americana,Helping Our Music Evolve,Live streams,Online performance,Shows
ATTACH;FMTTYPE=image/jpeg:https://umcworldwide.com/wp-content/uploads/2021/04/FLYER-GTM-video-Premiere-show.jpg
ORGANIZER;CN="Live from the 615":MAILTO:live615productions@gmail.com
END:VEVENT
END:VCALENDAR