BEGIN:VCALENDAR
VERSION:2.0
PRODID:-//Underground Music Collective - ECPv6.15.20//NONSGML v1.0//EN
CALSCALE:GREGORIAN
METHOD:PUBLISH
X-WR-CALNAME:Underground Music Collective
X-ORIGINAL-URL:https://umcworldwide.com
X-WR-CALDESC:Events for Underground Music Collective
REFRESH-INTERVAL;VALUE=DURATION:PT1H
X-Robots-Tag:noindex
X-PUBLISHED-TTL:PT1H
BEGIN:VTIMEZONE
TZID:America/New_York
BEGIN:DAYLIGHT
TZOFFSETFROM:-0500
TZOFFSETTO:-0400
TZNAME:EDT
DTSTART:20220313T070000
END:DAYLIGHT
BEGIN:STANDARD
TZOFFSETFROM:-0400
TZOFFSETTO:-0500
TZNAME:EST
DTSTART:20221106T060000
END:STANDARD
BEGIN:DAYLIGHT
TZOFFSETFROM:-0500
TZOFFSETTO:-0400
TZNAME:EDT
DTSTART:20230312T070000
END:DAYLIGHT
BEGIN:STANDARD
TZOFFSETFROM:-0400
TZOFFSETTO:-0500
TZNAME:EST
DTSTART:20231105T060000
END:STANDARD
BEGIN:DAYLIGHT
TZOFFSETFROM:-0500
TZOFFSETTO:-0400
TZNAME:EDT
DTSTART:20240310T070000
END:DAYLIGHT
BEGIN:STANDARD
TZOFFSETFROM:-0400
TZOFFSETTO:-0500
TZNAME:EST
DTSTART:20241103T060000
END:STANDARD
BEGIN:DAYLIGHT
TZOFFSETFROM:-0500
TZOFFSETTO:-0400
TZNAME:EDT
DTSTART:20250309T070000
END:DAYLIGHT
BEGIN:STANDARD
TZOFFSETFROM:-0400
TZOFFSETTO:-0500
TZNAME:EST
DTSTART:20251102T060000
END:STANDARD
END:VTIMEZONE
BEGIN:VEVENT
DTSTART;TZID=America/New_York:20240621T193000
DTEND;TZID=America/New_York:20240621T230000
DTSTAMP:20260420T124118
CREATED:20240423T201343Z
LAST-MODIFIED:20240514T173903Z
UID:139424-1718998200-1719010800@umcworldwide.com
SUMMARY:Sounds of the Underground: Songwriters of Eastern Pennsylvania
DESCRIPTION:Two stages. Eight acts. \nOne EPIC first Friday of summer. \nUnderground Music Collective — that’s us! — will return to our homeland of Bethlehem\, PA for a summertime party unlike any we’ve ever thrown. \nWe’ll once again team with our friends at Your Next Favorite Band at SteelStacks\, as we present Sounds of the Underground: Songwriters of Eastern Pennsylvania. This special evening full of homegrown talent will take place on Friday\, June 21 — the first Friday of summer — beginning at 7:30 p.m. \nOur performers are… \n\nAlex Radus (Folk/Singer-songwriter)\nBren (Indie/Alternative)\nChelsea Mitchell of Dirty Dollhouse (Alt-Americana)\nGreg Adams of TIOGA (Rock)\nKuf Knotz & Christine Elise (Hip Hop/Alternative)\nTye Vallone & Brie Emsee of The Groove Merchants (Blues/Rock/Soul)\n\nThen\, we kick the evening into overdrive at 9 p.m.\, right across 1st St. on the Highmark Blue Shield Community Stage on the Air Products Town Square. There\, we’ll be joined by high-powered\, harmonic rock band The Beautiful Distortion\, before closing the evening with Radus’ well-regarded alt-rock project\, Hot4Robot. \nOh\, and one more thing… it’s free to attend!
URL:https://umcworldwide.com/event/sounds-of-the-underground-songwriters-of-eastern-pennsylvania/
LOCATION:Levitt Pavilion SteelStacks\, 101 Founders Way\, Bethlehem\, PA\, 18015\, United States
CATEGORIES:Bethlehem,concerts,country,folk,hip hop,live shows,pop,R&B,rock,Shows,Sounds of the Underground,writers round
ATTACH;FMTTYPE=image/png:https://umcworldwide.com/wp-content/uploads/2024/04/Sounds-of-the-Underground.png
END:VEVENT
BEGIN:VEVENT
DTSTART;TZID=America/New_York:20231117T200000
DTEND;TZID=America/New_York:20231117T230000
DTSTAMP:20260420T124118
CREATED:20231002T190124Z
LAST-MODIFIED:20231002T190352Z
UID:135801-1700251200-1700262000@umcworldwide.com
SUMMARY:Nashville Meets Bethlehem: An All-Local\, Nashville-Style Songwriter Night at SteelStacks
DESCRIPTION:On Friday\, November 17\, ECM Collective will return home to Bethlehem\, PA to present Nashville Meets Bethlehem: An All-Local\, Nashville-Style Songwriter Night at SteelStacks. \nThis first-of-its-kind experience\, presented in conjunction with the Your Next Favorite Band podcast and ArtsQuest\, will feature two Nashville-style songwriter’s rounds featuring four acts apiece. Each artist will take turns performing acoustic versions of their original songs (and sharing the stories behind them). This intimate setting allows for interaction between the artists themselves\, as well as the audience\, creating an experience rooted in connection and community. \nOur lineup features (in alphabetical order):\nThe Beautiful Distortion\nBilly Bauer and Chris Lorenzetti\nBobby Siegfried of Chasing Daylight\nBronte Fall\nCarly Comando of Slingshot Dakota\nChelsea Mitchell of Dirty Dollhouse\nRoi and the Secret People\nTIOGA \nTickets are available now for $20 at SteelStacks.org!
URL:https://umcworldwide.com/event/nashville-meets-bethlehem-an-all-local-nashville-style-songwriter-night-at-steelstacks/
LOCATION:ArtsQuest Center at SteelStacks\, 101 Founders Way\, Bethlehem\, PA\, 18015\, United States
CATEGORIES:Bethlehem,Shows,SteelStacks,writers round
ATTACH;FMTTYPE=image/png:https://umcworldwide.com/wp-content/uploads/2023/10/NashxBeth.png
END:VEVENT
END:VCALENDAR