BEGIN:VCALENDAR
VERSION:2.0
PRODID:-//Underground Music Collective - ECPv6.15.20//NONSGML v1.0//EN
CALSCALE:GREGORIAN
METHOD:PUBLISH
X-WR-CALNAME:Underground Music Collective
X-ORIGINAL-URL:https://umcworldwide.com
X-WR-CALDESC:Events for Underground Music Collective
REFRESH-INTERVAL;VALUE=DURATION:PT1H
X-Robots-Tag:noindex
X-PUBLISHED-TTL:PT1H
BEGIN:VTIMEZONE
TZID:America/New_York
BEGIN:DAYLIGHT
TZOFFSETFROM:-0500
TZOFFSETTO:-0400
TZNAME:EDT
DTSTART:20240310T070000
END:DAYLIGHT
BEGIN:STANDARD
TZOFFSETFROM:-0400
TZOFFSETTO:-0500
TZNAME:EST
DTSTART:20241103T060000
END:STANDARD
BEGIN:DAYLIGHT
TZOFFSETFROM:-0500
TZOFFSETTO:-0400
TZNAME:EDT
DTSTART:20250309T070000
END:DAYLIGHT
BEGIN:STANDARD
TZOFFSETFROM:-0400
TZOFFSETTO:-0500
TZNAME:EST
DTSTART:20251102T060000
END:STANDARD
BEGIN:DAYLIGHT
TZOFFSETFROM:-0500
TZOFFSETTO:-0400
TZNAME:EDT
DTSTART:20260308T070000
END:DAYLIGHT
BEGIN:STANDARD
TZOFFSETFROM:-0400
TZOFFSETTO:-0500
TZNAME:EST
DTSTART:20261101T060000
END:STANDARD
END:VTIMEZONE
BEGIN:VEVENT
DTSTART;TZID=America/New_York:20251001T190000
DTEND;TZID=America/New_York:20251001T210000
DTSTAMP:20260425T215502
CREATED:20250922T195023Z
LAST-MODIFIED:20250922T195023Z
UID:146474-1759345200-1759352400@umcworldwide.com
SUMMARY:FREE WORKSHOP: Building Your Authentic Artist Brand
DESCRIPTION:We’re gearing up for an action-packed October\, with events happening all over the Southeastern U.S. — including our debut at Confluence Carolinas\, and an exciting\, expanded collaboration with NOLA MusiCon. \nOf course\, it all starts from a solid foundation at home. That’s why we’re kicking off the month by bringing our popular Building Your Authentic Artist Brand workshop back to Nashville! \nJoin us at Helping Our Music Evolve (615 Main St.\, Suite G1\, Nashville) on Wednesday\, October 1 from 7-9 p.m. This interactive workshop — as experienced during SXSW 2025 — guides musicians (and other creatives) through the steps of developing a purpose-driven\, values-based creative ecosystem. Building Your Authentic Artist Brand is designed to help artists identify the unique “why” behind their work; learn best practices for attracting their true audience across three key segments (fans\, collaborators\, and business partners); and build a sustainable\, profitable creative business on their own terms. \nBuilding Your Authentic Artist Brand is free to attend\, and it’s all part of the work we do to educate and connect artistpreneurs through the UMC Academy. You can learn more about what we offer here!
URL:https://umcworldwide.com/event/free-workshop-building-your-authentic-artist-brand-3/
LOCATION:Helping Our Music Evolve\, 615 Main St.\, Nashville\, TN\, 37206\, United States
CATEGORIES:book signing,BRANDCAMP,Building Your Authentic Artist Brand,Education,Music Industry,Music Industry Education,Networking Events,Perfect Your Pitch,Seminars,UMC Academy,Workshops
ATTACH;FMTTYPE=image/png:https://umcworldwide.com/wp-content/uploads/2025/09/Workshop-Oct-1-2025.png
END:VEVENT
BEGIN:VEVENT
DTSTART;TZID=America/New_York:20250312T150000
DTEND;TZID=America/New_York:20250312T152500
DTSTAMP:20260425T215502
CREATED:20250226T203846Z
LAST-MODIFIED:20250226T203846Z
UID:143898-1741791600-1741793100@umcworldwide.com
SUMMARY:SXSW Book Signing: '60+ Lessons from the Creative Journey'
DESCRIPTION:I’ve learned countless lessons during my decade-plus creative journey. Some were common sense\, “live-and-learn” type experiences\, while others came as a direct result of thinking I had a good idea… and falling flat on my face. \nOne night\, I opened a blank document\, and I began to compile a list of the most important ones\, based on the experiences that forged me into a better creative professional. Before I knew it\, I had few dozen… and I added about a dozen more\, for good measure! \nThese 60+ Lessons from the Creative Journey come loaded with anecdotes — whether painful\, inspiring\, and/or hilarious — from 11+ years building a multimedia and educational platform for independent musicians. The lessons contained within are independent of industry; they apply to anybody with the courage to step out and “build the thing” — no matter what your “thing” is!
URL:https://umcworldwide.com/event/sxsw-book-signing-60-lessons-from-the-creative-journey/
LOCATION:Austin Convention Center\, 500 E Cesar Chavez St.\, Austin\, TX\, United States
CATEGORIES:book signing,Building Your Authentic Artist Brand,Conferences,festivals,Music Industry,Music Industry Education,Networking Events,new release,SXSW
ATTACH;FMTTYPE=image/png:https://umcworldwide.com/wp-content/uploads/2025/01/SXSW-graphics_20250116_121224_0002.png
END:VEVENT
END:VCALENDAR