BEGIN:VCALENDAR
VERSION:2.0
PRODID:-//Underground Music Collective - ECPv6.15.20//NONSGML v1.0//EN
CALSCALE:GREGORIAN
METHOD:PUBLISH
X-ORIGINAL-URL:https://umcworldwide.com
X-WR-CALDESC:Events for Underground Music Collective
REFRESH-INTERVAL;VALUE=DURATION:PT1H
X-Robots-Tag:noindex
X-PUBLISHED-TTL:PT1H
BEGIN:VTIMEZONE
TZID:America/New_York
BEGIN:DAYLIGHT
TZOFFSETFROM:-0500
TZOFFSETTO:-0400
TZNAME:EDT
DTSTART:20200308T070000
END:DAYLIGHT
BEGIN:STANDARD
TZOFFSETFROM:-0400
TZOFFSETTO:-0500
TZNAME:EST
DTSTART:20201101T060000
END:STANDARD
BEGIN:DAYLIGHT
TZOFFSETFROM:-0500
TZOFFSETTO:-0400
TZNAME:EDT
DTSTART:20210314T070000
END:DAYLIGHT
BEGIN:STANDARD
TZOFFSETFROM:-0400
TZOFFSETTO:-0500
TZNAME:EST
DTSTART:20211107T060000
END:STANDARD
BEGIN:DAYLIGHT
TZOFFSETFROM:-0500
TZOFFSETTO:-0400
TZNAME:EDT
DTSTART:20220313T070000
END:DAYLIGHT
BEGIN:STANDARD
TZOFFSETFROM:-0400
TZOFFSETTO:-0500
TZNAME:EST
DTSTART:20221106T060000
END:STANDARD
END:VTIMEZONE
BEGIN:VEVENT
DTSTART;TZID=America/New_York:20211020T200000
DTEND;TZID=America/New_York:20211021T000000
DTSTAMP:20260421T015010
CREATED:20210917T180414Z
LAST-MODIFIED:20210927T033819Z
UID:119465-1634760000-1634774400@umcworldwide.com
SUMMARY:NashLive! Presents: Skylar Gregg\, Charles Ellsworth\, and The Daily Fare
DESCRIPTION:It’s an Americana showcase in the heart of East Nashville on Wednesday\, October 20\, when Skylar Gregg\, Charles Ellsworth\, and The Daily Fare join us at The Cobra! \nSkylar Gregg engages in a gripping cocktail of hard work\, humor\, and self discovery\, expressing vivid lyrical imagery and raw grit that soaks into every note of her songwriting. The Nashville-based musician translates that into a mixed bag of retro southern music immersed in old soul\, 60’s and 70’s country and blues. \nCharles Ellsworth is an NYC transplant by way of the White Mountains of Arizona where he was raised on Mormon hymns and Top 40 country music. A storyteller by nature\, Ellsworth’s lyrics and near-familiar melodies weave to tell stories of heartbreak and loneliness\, while shining a light on the perseverance of the human spirit. A self-proclaimed “recovering toxic sadboy” — Ellsworth’s music has evolved with him. Through sobriety and self-exploration\, Ellsworth has shifted from writing songs lamenting “the ones that got away\,” to singing honest reflections about what caused them to leave and doing the work to be better. \nNorthern-born songwriters Alissa Abeler and Hannah Smith joined creative forces to form the duo now known as The Daily Fare. The pair grew up on opposite sides of the music world\, with influences ranging from Judy Garland and Adele to Beethoven and Bach\, with a healthy dose of Broadway\, punk cabaret\, and 80s ballads sprinkled in the mix. \nTheir shared affection for poignant and evocative narrative teamed with years of playing small intimate shows have transformed the once-placid duo’s sound into the story-weaving powerhouse they are today. With characteristically unique vocal harmonies and engaging instrumentation\, The Daily Fare are carving out a niche for themselves within the Americana genre while their honest and occasionally eccentric approach to storytelling continues to engage new listeners on this creative journey. Their sound has been compared to First Aid Kit\, The Milk Carton Kids\, and The Civil Wars. \n$10 at the door | 21+ to enter
URL:https://umcworldwide.com/event/live-from-the-615-presents-skylar-gregg-charles-ellsworth-and-the-daily-fare/
LOCATION:Cobra Nashville\, 2511 Gallatin Ave.\, Nashville\, TN\, United States
CATEGORIES:Americana,blues,Cobra Nashville,concerts,country,Live from the 615,live shows,Shows,soul
ATTACH;FMTTYPE=image/png:https://umcworldwide.com/wp-content/uploads/2021/09/Music-Fest-Student-Council-Poster.png
END:VEVENT
BEGIN:VEVENT
DTSTART;TZID=America/New_York:20211016T200000
DTEND;TZID=America/New_York:20211017T000000
DTSTAMP:20260421T015010
CREATED:20210819T212628Z
LAST-MODIFIED:20210927T033945Z
UID:118755-1634414400-1634428800@umcworldwide.com
SUMMARY:NashLive! Presents: A Night of Nashville Hip Hop
DESCRIPTION:Nashville’s growing hip hop community will soon have another chance to shine\, courtesy of NashLive! \nWe’ll be presenting A Night of Nashville Hip Hop at Cobra Nashville (2511 Gallatin Ave.) on Saturday\, October 16. This showcase event — presented in conjunction with Wall to Wall Entertainment and our friends at Music City Movement — features a lineup of five of Music City’s prolific independent hip hop artists\, including: \nEsquire*\nApple Music\nInstagram \nKeith Mosley*\nApple Music\nInstagram \nLord Goldie\nSpotify\nInstagram \nMr. 110\nSpotify\nInstagram \nTee Walls*\nApple Music\nInstagram \n*-Denotes Wall to Wall Entertainment artist. \nEnjoy this Night of Nashville Hip Hop for just $10 at the door. Doors are at 8 p.m.\, with music hitting the stage at 8:30 p.m. You must be 21 or older to enter.
URL:https://umcworldwide.com/event/live-from-the-615-presents-a-night-of-nashville-hip-hop/
LOCATION:Cobra Nashville\, 2511 Gallatin Ave.\, Nashville\, TN\, United States
CATEGORIES:Best of Nashville Hip Hop,Cobra Nashville,concerts,hip hop,Live from the 615,live shows,Shows
ATTACH;FMTTYPE=image/png:https://umcworldwide.com/wp-content/uploads/2021/08/Nov.-18-cover-graphic-1-1.png
END:VEVENT
BEGIN:VEVENT
DTSTART;TZID=America/New_York:20211014T200000
DTEND;TZID=America/New_York:20211015T000000
DTSTAMP:20260421T015010
CREATED:20210917T175740Z
LAST-MODIFIED:20210927T034152Z
UID:119459-1634241600-1634256000@umcworldwide.com
SUMMARY:NashLive! Presents: Krantz\, Monte Mader\, and The Mad Sugars
DESCRIPTION:We make our debut at The Cobra Nashville on Thursday\, October 14 — and we’ll be accompanied by the talents of Krantz\, Monte Mader\, and The Mad Sugars to celebrate! \nKrantz can best be described as “rock ‘n roll in color from Music City\, USA.” Those who join us as Cobra better be ready for some earworms\, including the new single\, “Louisiana\,” set to drop this fall! \n\nMonte Mader describes herself as a “singer/songwriter and smile production expert.” The Wyoming native’s infectious onstage energy and heartfelt\, attitude infused lyrics combine to create badass entertainment for all in her path.\n\n\nFronted by Berklee College of Music grad Adam Lawrence\, The Mad Sugars fuse garage rock and dance pop to create lively and engaging performances\, with lyrical content centered around the nightlife misadventures of young adults in the 21st Century. Originally hailing from New York City\, the band now calls Nashville home\, and will be celebrating the release of its new EP with us at Cobra!\n\n$10 at the door | 21+ to enter
URL:https://umcworldwide.com/event/live-from-the-615-presents-krantz-monte-mader-and-the-mad-sugars/
LOCATION:Cobra Nashville\, 2511 Gallatin Ave.\, Nashville\, TN\, United States
CATEGORIES:Cobra Nashville,concerts,Live from the 615,live shows,rock,rock shows,Shows
ATTACH;FMTTYPE=image/png:https://umcworldwide.com/wp-content/uploads/2021/09/615-poster-Oct-14-1.png
END:VEVENT
END:VCALENDAR