BEGIN:VCALENDAR
VERSION:2.0
PRODID:-//Underground Music Collective - ECPv6.15.20//NONSGML v1.0//EN
CALSCALE:GREGORIAN
METHOD:PUBLISH
X-WR-CALNAME:Underground Music Collective
X-ORIGINAL-URL:https://umcworldwide.com
X-WR-CALDESC:Events for Underground Music Collective
REFRESH-INTERVAL;VALUE=DURATION:PT1H
X-Robots-Tag:noindex
X-PUBLISHED-TTL:PT1H
BEGIN:VTIMEZONE
TZID:America/New_York
BEGIN:DAYLIGHT
TZOFFSETFROM:-0500
TZOFFSETTO:-0400
TZNAME:EDT
DTSTART:20200308T070000
END:DAYLIGHT
BEGIN:STANDARD
TZOFFSETFROM:-0400
TZOFFSETTO:-0500
TZNAME:EST
DTSTART:20201101T060000
END:STANDARD
BEGIN:DAYLIGHT
TZOFFSETFROM:-0500
TZOFFSETTO:-0400
TZNAME:EDT
DTSTART:20210314T070000
END:DAYLIGHT
BEGIN:STANDARD
TZOFFSETFROM:-0400
TZOFFSETTO:-0500
TZNAME:EST
DTSTART:20211107T060000
END:STANDARD
BEGIN:DAYLIGHT
TZOFFSETFROM:-0500
TZOFFSETTO:-0400
TZNAME:EDT
DTSTART:20220313T070000
END:DAYLIGHT
BEGIN:STANDARD
TZOFFSETFROM:-0400
TZOFFSETTO:-0500
TZNAME:EST
DTSTART:20221106T060000
END:STANDARD
END:VTIMEZONE
BEGIN:VEVENT
DTSTART;TZID=America/New_York:20210515T190000
DTEND;TZID=America/New_York:20210515T220000
DTSTAMP:20260420T073459
CREATED:20210512T185448Z
LAST-MODIFIED:20210512T185448Z
UID:115372-1621105200-1621116000@umcworldwide.com
SUMMARY:Live from the 615: Hollie Hammel\, Sally Duhon\, and Fresh Lady
DESCRIPTION:Nashville-based songstress Hollie Hammel — who has performed alongside artists including Brandi Carlile\, Hans Zimmer\, Lindsay Ell\, and many others — will kick off the night at 7 p.m. CT. \nShe will be followed at 8 p.m. CT by lo-fi pop artist Sally Duhon\, whose debut single “Cozi” discusses mental health and self-awarness. \nClosing out the night at 9 p.m. CT will be Fresh Lady\, a New York native and soul singer who has been performing professionally since the age of 14. \n$10 virtual and in-person | All Ages \nTICKETS
URL:https://umcworldwide.com/event/live-from-the-615-hollie-hammel-sally-duhon-and-fresh-lady/
LOCATION:Helping Our Music Evolve\, 615 Main St.\, Nashville\, TN\, 37206\, United States
CATEGORIES:concerts,Helping Our Music Evolve,Live from the 615,live shows,Live streams,Online performance,pop,Shows,soul
ATTACH;FMTTYPE=image/png:https://umcworldwide.com/wp-content/uploads/2021/05/May-15-graphic.png
ORGANIZER;CN="Live from the 615":MAILTO:live615productions@gmail.com
END:VEVENT
BEGIN:VEVENT
DTSTART;TZID=America/New_York:20210507T180000
DTEND;TZID=America/New_York:20210507T193000
DTSTAMP:20260420T073459
CREATED:20210503T180629Z
LAST-MODIFIED:20210503T180710Z
UID:112334-1620410400-1620415800@umcworldwide.com
SUMMARY:John McLaughlin at City Winery Nashville
DESCRIPTION:TICKETS: http://bit.ly/jonmclaughlinUMC \nEverything in Jon McLaughlin’s life makes its way into his music\, whether he’s conscious of it or not. The artist\, raised in Indiana and based in Nashville\, brings all of his experiences and beliefs into each song he creates\, something that is especially true now that he’s the father of two young girls. \n\nJon released his debut album\, Indiana\, in 2007 on Island Def Jam\, attracting fans with his heartfelt\, hook-laden songwriting and impassioned delivery. He’s released six full-lengths in the years since and revealed a true evolution in both his piano playing and singing. He’s played shows with Billy Joel\, Kelly Clarkson and Adele\, collaborated with longtime friend Sara Bareilles\, co-written with Demi Lovato and even performed at the Academy Awards in 2008. \nJon’s album\, Like Us\, dropped in October of 2015 via Razor & Tie\, and he spent the past few years touring extensively before heading back into his Nashville studio to work on new music. Jon released a Christmas EP in 2017 titled Red & Green with two originals and his take on a few holiday classics. In November of 2018 Jon released his album Angst & Grace which features “Still My Girl” written for his youngest daughter. \nAnother project started in 2018 is his Dueling Pianos video series. Every episode features a new guest artist and they perform mashups of never been heard arrangements. \nIn Fall of 2019 Jon released an instrumental piano album titled Mood. This record demonstrates Jon’s artistry and captivates his talent as a pianist. In May 2020 the second edition of the project was released. \nIn August Jon put out his first Pop release Things I Say To Myself since Angst & Grace with immediate fan favorites A Break Up Song\, and People Like You. Jon will wrap up 2020 with a Holiday EP release titled “Christmas Time”. \nAs with everything he does\, Jon’s goal is to create connections. He wants to translate his experiences and ideas into music that reaches fans everywhere. His passion for music and playing is evident in each note he plays.
URL:https://umcworldwide.com/event/john-mclaughlin-at-city-winery-nashville/
LOCATION:City Winery Nashville\, 609 Lafayette St.\, Nashville\, TN\, United States
CATEGORIES:City Winery Nashville,concerts,live shows,Shows
ATTACH;FMTTYPE=image/jpeg:https://umcworldwide.com/wp-content/uploads/2021/05/NSH-Announce-JonMcLaughlin-5-7-Slide-1.jpg
END:VEVENT
END:VCALENDAR