BEGIN:VCALENDAR
VERSION:2.0
PRODID:-//Underground Music Collective - ECPv6.15.20//NONSGML v1.0//EN
CALSCALE:GREGORIAN
METHOD:PUBLISH
X-WR-CALNAME:Underground Music Collective
X-ORIGINAL-URL:https://umcworldwide.com
X-WR-CALDESC:Events for Underground Music Collective
REFRESH-INTERVAL;VALUE=DURATION:PT1H
X-Robots-Tag:noindex
X-PUBLISHED-TTL:PT1H
BEGIN:VTIMEZONE
TZID:America/New_York
BEGIN:DAYLIGHT
TZOFFSETFROM:-0500
TZOFFSETTO:-0400
TZNAME:EDT
DTSTART:20210314T070000
END:DAYLIGHT
BEGIN:STANDARD
TZOFFSETFROM:-0400
TZOFFSETTO:-0500
TZNAME:EST
DTSTART:20211107T060000
END:STANDARD
BEGIN:DAYLIGHT
TZOFFSETFROM:-0500
TZOFFSETTO:-0400
TZNAME:EDT
DTSTART:20220313T070000
END:DAYLIGHT
BEGIN:STANDARD
TZOFFSETFROM:-0400
TZOFFSETTO:-0500
TZNAME:EST
DTSTART:20221106T060000
END:STANDARD
BEGIN:DAYLIGHT
TZOFFSETFROM:-0500
TZOFFSETTO:-0400
TZNAME:EDT
DTSTART:20230312T070000
END:DAYLIGHT
BEGIN:STANDARD
TZOFFSETFROM:-0400
TZOFFSETTO:-0500
TZNAME:EST
DTSTART:20231105T060000
END:STANDARD
END:VTIMEZONE
BEGIN:VEVENT
DTSTART;TZID=America/New_York:20221011T190000
DTEND;TZID=America/New_York:20221011T230000
DTSTAMP:20260424T195829
CREATED:20221006T171803Z
LAST-MODIFIED:20221006T172416Z
UID:129077-1665514800-1665529200@umcworldwide.com
SUMMARY:CAA Young Nashville Party (to Benefit Communities In Schools of Tennessee)
DESCRIPTION:Tuesday\, Oct. 11\, young entertainment industry professionals in Nashville will have the chance to party Gatsby-style for a good cause. \nCreative Artists Agency (CAA) will host its annual Young Nashville Party\, which brings together young entertainment and sports industry professionals from around the Nashville area in an effort to raise awareness and funds for Communities In Schools of Tennessee (CISTN). \nThe mission of CISTN is to surround students with a community of support\, empowering them to stay in school and succeed in life. Through school-based coordinators\, CISTN connects students and their families to critical community resources tailored to local needs\, providing services to over 19\,000 at-risk students at 41 traditional public schools throughout 61 counties in Tennessee. \nThe Young Nashville Party will take place at 4416 Ridgefield Way in Nashville from 7-11 p.m. This event is an opportunity for creatives to build connections on a night that will also feature dancing\, food\, drinks\, and even a casino. It’s Great Gatsby themed\, and the dress code is formal. If that sounds like a good time to you — and let’s be honest\, of course it does! — get your tickets here before they’re gone!
URL:https://umcworldwide.com/event/caa-young-nashville-party-to-benefit-communities-in-schools-of-tennessee/
LOCATION:4416 Ridgefield Way\, 4416 Ridgefield Way\, Nashville\, TN\, United States
CATEGORIES:CAA Young Nashville Party,Creative Artists Agency,Networking Events
ATTACH;FMTTYPE=image/png:https://umcworldwide.com/wp-content/uploads/2022/10/image001-1.png
END:VEVENT
END:VCALENDAR