BEGIN:VCALENDAR
VERSION:2.0
PRODID:-//Underground Music Collective - ECPv6.15.20//NONSGML v1.0//EN
CALSCALE:GREGORIAN
METHOD:PUBLISH
X-WR-CALNAME:Underground Music Collective
X-ORIGINAL-URL:https://umcworldwide.com
X-WR-CALDESC:Events for Underground Music Collective
REFRESH-INTERVAL;VALUE=DURATION:PT1H
X-Robots-Tag:noindex
X-PUBLISHED-TTL:PT1H
BEGIN:VTIMEZONE
TZID:America/New_York
BEGIN:DAYLIGHT
TZOFFSETFROM:-0500
TZOFFSETTO:-0400
TZNAME:EDT
DTSTART:20240310T070000
END:DAYLIGHT
BEGIN:STANDARD
TZOFFSETFROM:-0400
TZOFFSETTO:-0500
TZNAME:EST
DTSTART:20241103T060000
END:STANDARD
BEGIN:DAYLIGHT
TZOFFSETFROM:-0500
TZOFFSETTO:-0400
TZNAME:EDT
DTSTART:20250309T070000
END:DAYLIGHT
BEGIN:STANDARD
TZOFFSETFROM:-0400
TZOFFSETTO:-0500
TZNAME:EST
DTSTART:20251102T060000
END:STANDARD
BEGIN:DAYLIGHT
TZOFFSETFROM:-0500
TZOFFSETTO:-0400
TZNAME:EDT
DTSTART:20260308T070000
END:DAYLIGHT
BEGIN:STANDARD
TZOFFSETFROM:-0400
TZOFFSETTO:-0500
TZNAME:EST
DTSTART:20261101T060000
END:STANDARD
END:VTIMEZONE
BEGIN:VEVENT
DTSTART;VALUE=DATE:20250822
DTEND;VALUE=DATE:20250825
DTSTAMP:20260419T181434
CREATED:20250228T191842Z
LAST-MODIFIED:20250228T191842Z
UID:143921-1755820800-1756079999@umcworldwide.com
SUMMARY:Gussapolooza Music & Arts Festival 2025
DESCRIPTION:Gussapolooza Music & Arts Festival is a cherished annual event that brings together families and friends for a weekend of fun and creativity. Set on the picturesque Georgian Bay Steam Show Grounds in Cookstown\, Ontario\, Canada\, the festival features an eclectic mix of live music\, art installations\, and interactive workshops. Our mission is to create a welcoming environment where attendees of all ages can explore their artistic passions and enjoy quality time with loved ones. From local food vendors to engaging performances\, Gussapolooza offers something for everyone\, making it a must-attend event for the community.
URL:https://umcworldwide.com/event/gussapolooza-music-arts-festival-2025/
LOCATION:Georgian Bay Steam Show Grounds\, Cookstown\, Ontario\, Canada
CATEGORIES:concerts,festivals,Gussapolooza,live shows,Music Industry
ATTACH;FMTTYPE=image/png:https://umcworldwide.com/wp-content/uploads/2024/12/Gussa-save-the-date-2025.png
END:VEVENT
END:VCALENDAR