BEGIN:VCALENDAR
VERSION:2.0
PRODID:-//Underground Music Collective - ECPv6.15.20//NONSGML v1.0//EN
CALSCALE:GREGORIAN
METHOD:PUBLISH
X-WR-CALNAME:Underground Music Collective
X-ORIGINAL-URL:https://umcworldwide.com
X-WR-CALDESC:Events for Underground Music Collective
REFRESH-INTERVAL;VALUE=DURATION:PT1H
X-Robots-Tag:noindex
X-PUBLISHED-TTL:PT1H
BEGIN:VTIMEZONE
TZID:America/New_York
BEGIN:DAYLIGHT
TZOFFSETFROM:-0500
TZOFFSETTO:-0400
TZNAME:EDT
DTSTART:20200308T070000
END:DAYLIGHT
BEGIN:STANDARD
TZOFFSETFROM:-0400
TZOFFSETTO:-0500
TZNAME:EST
DTSTART:20201101T060000
END:STANDARD
BEGIN:DAYLIGHT
TZOFFSETFROM:-0500
TZOFFSETTO:-0400
TZNAME:EDT
DTSTART:20210314T070000
END:DAYLIGHT
BEGIN:STANDARD
TZOFFSETFROM:-0400
TZOFFSETTO:-0500
TZNAME:EST
DTSTART:20211107T060000
END:STANDARD
BEGIN:DAYLIGHT
TZOFFSETFROM:-0500
TZOFFSETTO:-0400
TZNAME:EDT
DTSTART:20220313T070000
END:DAYLIGHT
BEGIN:STANDARD
TZOFFSETFROM:-0400
TZOFFSETTO:-0500
TZNAME:EST
DTSTART:20221106T060000
END:STANDARD
BEGIN:DAYLIGHT
TZOFFSETFROM:-0500
TZOFFSETTO:-0400
TZNAME:EDT
DTSTART:20230312T070000
END:DAYLIGHT
BEGIN:STANDARD
TZOFFSETFROM:-0400
TZOFFSETTO:-0500
TZNAME:EST
DTSTART:20231105T060000
END:STANDARD
BEGIN:DAYLIGHT
TZOFFSETFROM:-0500
TZOFFSETTO:-0400
TZNAME:EDT
DTSTART:20240310T070000
END:DAYLIGHT
BEGIN:STANDARD
TZOFFSETFROM:-0400
TZOFFSETTO:-0500
TZNAME:EST
DTSTART:20241103T060000
END:STANDARD
BEGIN:DAYLIGHT
TZOFFSETFROM:-0500
TZOFFSETTO:-0400
TZNAME:EDT
DTSTART:20250309T070000
END:DAYLIGHT
BEGIN:STANDARD
TZOFFSETFROM:-0400
TZOFFSETTO:-0500
TZNAME:EST
DTSTART:20251102T060000
END:STANDARD
END:VTIMEZONE
BEGIN:VEVENT
DTSTART;TZID=America/New_York:20240720T190000
DTEND;TZID=America/New_York:20240720T220000
DTSTAMP:20260421T154946
CREATED:20240614T145830Z
LAST-MODIFIED:20240713T185456Z
UID:140095-1721502000-1721512800@umcworldwide.com
SUMMARY:NashLive! Sonic Kaleidoscope ft. Shawney Rainne\, Fiona Maura\, and Sarah Manzo
DESCRIPTION:NashLive! is back for the summer\, ready to turn up the heat with a multi-faceted live music experience you’ll be talking about for the rest of 2024 — and beyond. \nOn Saturday\, July 20\, come to Helping Our Music Evolve (615 Main St.\, Suite G1\, Nashville) to experience the NashLive! Sonic Kaleidoscope. On this night\, rising stars in Music City’s pop\, R&B\, and hip hop communities will come together to present vivid soundscapes and captivating performances. \nPerformers include… \nShawney Rainne: Originally from the country music genre\, she has evolved her sound into soulful pop infused with depth and emotion. Her debut track “Liar” aired on MTV’s Siesta Key in 2020\, showcasing her talents to a broader audience. \nShe founded my Rainne Entertainment\, a platform where she channels her passions into dynamic storytelling through music and artistic flair. \nHer love for fashion shines through her brand\, Alter Ego. She also expresses her creativity through movement\, dance\, and curating unique experiences\, including one-of-a-kind events\, directing music videos\, and developing innovative performance productions. \nCentral to Shawney’s work is empowering self-acceptance and expression. Through vulnerable songwriting\, she explores themes of healing\, love\, spirituality\, and unlocking one’s potential. Shawney also embraces alter egos that highlight different aspects of her identity. Her goal is to inspire others to trust themselves\, embrace failure\, and discover their most authentic selves through radical self-acceptance. \n\nFiona Maura is a dream pop songstress originally from the space coast of Florida\, currently residing\, writing\, and performing in Nashville\, TN. Her ethereal sound fuses soulful folk melodies\, dreamy textures\, and spiritual lyricism. As seen on American Idol\, Fiona is a certified sound healer and weaves her sound bowls and healing instruments through her live shows and production. She was runner up for Best Singer-Songwriter in Nashville Scene’s Best of Nashville 2022\, and performed at First Horizon Park as part of Nashville Scene’s Best of Nashville Festival in 2023. \n\nSarah Manzo: Nashville-based artist\, Sarah Manzo\, is an unstoppable Jersey girl who is determined to leave her mark on music. At 24 years old\, she has worked with Grammy-nominated musicians and has performed all over the country. Manzo’s debut album\, “Brain on Fire\,” is a cross-section of indie\, soul\, pop\, and musical theatre. Her songs are meant to confront her past while acting as a sounding board for those around her. Manzo found a way to heal through songwriting by telling stories that were authentic to her about struggles with mental health\, growing pains\, and feeling like an outcast. “I want to be a big sister to those listening and encourage others to embrace their individuality.” With the vulnerability of Amy Winehouse\, the lyrical specificity of Taylor Swift\, and the vocal stylings of Ariana Grande\, Manzo is ready to share her coming-of-age story with the world. \n\n\nTickets are now on sale — and they come in two different flavors! \n\nBasic Babe ($15): Ready to experience an epic night? Grab a general admission ticket and you’re good to go!\nParty Like a Rock Star ($45): General Admission PLUS unlimited access to our specialty cocktail bar! You read that right! An extra 30 bucks gets you access to the open bar! You won’t find a deal like this anywhere else in Nashville.\n\nGET YOURS HERE!
URL:https://umcworldwide.com/event/nashlive-sonic-kaleidoscope-ft-shawney-rainne-fiona-maura-and-hew-g/
LOCATION:Helping Our Music Evolve\, 615 Main St.\, Nashville\, TN\, 37206\, United States
CATEGORIES:concerts,Helping Our Music Evolve,hip hop,live shows,NashLive!,pop,R&B,Shows
ATTACH;FMTTYPE=image/png:https://umcworldwide.com/wp-content/uploads/2024/06/July-20-widescreen-2.png
END:VEVENT
BEGIN:VEVENT
DTSTART;TZID=America/New_York:20211015T200000
DTEND;TZID=America/New_York:20211015T210000
DTSTAMP:20260421T154946
CREATED:20210928T202026Z
LAST-MODIFIED:20210928T202026Z
UID:119763-1634328000-1634331600@umcworldwide.com
SUMMARY:Audrey Jane: ‘Madhouse’ EP Release Livestream
DESCRIPTION:We’re teaming up with Nashville-based art pop artist Audrey Jane to bring you a live streamed performance of her forthcoming Madhouse EP. This exclusive broadcast will emanate from Helping Our Music Evolve (HOME) in East Nashville\, and will celebrate the EP’s release alongside the spirit of the Halloween season! \nRSVP HERE
URL:https://umcworldwide.com/event/audrey-jane-madhouse-ep-release-livestream/
LOCATION:Helping Our Music Evolve\, 615 Main St.\, Nashville\, TN\, 37206\, United States
CATEGORIES:Helping Our Music Evolve,live shows,Live streams,Online performance,pop
ATTACH;FMTTYPE=image/jpeg:https://umcworldwide.com/wp-content/uploads/2021/09/242313298_10227083547733946_7268097698644778214_n.jpg
END:VEVENT
BEGIN:VEVENT
DTSTART;TZID=America/New_York:20210521T190000
DTEND;TZID=America/New_York:20210521T210000
DTSTAMP:20260421T154946
CREATED:20210513T140026Z
LAST-MODIFIED:20210513T143058Z
UID:115366-1621623600-1621630800@umcworldwide.com
SUMMARY:Live from the 615 Presents: Dan Fuson and Echo Pilot
DESCRIPTION:At Live from the 615\, we have ourselves a wide range of rock ready to go on Friday\, May 21. \nThat evening\, the action will start at 7 p.m. CT with Dan Fuson. The Nashville-based pop rock songwriter just released a new EP\, Young + Improving\, which reaches into the pop realm while maintaining an honest alt-rock edge. On May 21\, Dan will bring these honest songs to life in front of the Live from the 615 audience. \nThen at 8 p.m. CT\, things get heavy! Nashville hard rock quartet Echo Pilot will check in\, as they celebrate the release of their single\, “Long Time Coming\,” which is due out the same day! And\, if their current singles “Harry Houdini” and “Field Day” are any indication\, we can expect their entire performance to pack an eclectic punch! \n$10 virtual and in-person | All Ages \nTICKETS
URL:https://umcworldwide.com/event/live-from-the-615-presents-dan-fuson-and-echo-pilot/
LOCATION:Helping Our Music Evolve\, 615 Main St.\, Nashville\, TN\, 37206\, United States
CATEGORIES:concerts,Helping Our Music Evolve,Live from the 615,live shows,Live streams,Online performance,rock,rock shows,Shows
ATTACH;FMTTYPE=image/png:https://umcworldwide.com/wp-content/uploads/2021/05/Dan-Fuson-and-Echo-Pilot.png
ORGANIZER;CN="Live from the 615":MAILTO:live615productions@gmail.com
END:VEVENT
BEGIN:VEVENT
DTSTART;TZID=America/New_York:20210516T190000
DTEND;TZID=America/New_York:20210516T210000
DTSTAMP:20260421T154946
CREATED:20210512T190620Z
LAST-MODIFIED:20210512T190620Z
UID:115379-1621191600-1621198800@umcworldwide.com
SUMMARY:Live from the 615: King Locomotive and Beyond Here
DESCRIPTION:Sunday\, May 16: Three parts of Detroit muscle\, one part New York soul: that’s how to best describe King Locomotive\, a tip of the hat to all things rock\, who kick things off at 7 p.m. CT. \nJoining them on the bill is Beyond Here (8 p.m. CT)\, a Nashville-based alternative rock band whose single “Go There” was premiered in August 2020 by Nashville radio station 102.9 The Buzz. \n$10 virtual and in-person | All ages \nTICKETS
URL:https://umcworldwide.com/event/live-from-the-615-king-locomotive-and-beyond-here/
LOCATION:Helping Our Music Evolve\, 615 Main St.\, Nashville\, TN\, 37206\, United States
CATEGORIES:concerts,Helping Our Music Evolve,Live from the 615,live shows,Live streams,Online performance,rock,rock shows,Shows
ATTACH;FMTTYPE=image/png:https://umcworldwide.com/wp-content/uploads/2021/05/King-Locomotive-and-Beyond-Here-1.png
ORGANIZER;CN="Live from the 615":MAILTO:live615productions@gmail.com
END:VEVENT
BEGIN:VEVENT
DTSTART;TZID=America/New_York:20210515T190000
DTEND;TZID=America/New_York:20210515T220000
DTSTAMP:20260421T154946
CREATED:20210512T185448Z
LAST-MODIFIED:20210512T185448Z
UID:115372-1621105200-1621116000@umcworldwide.com
SUMMARY:Live from the 615: Hollie Hammel\, Sally Duhon\, and Fresh Lady
DESCRIPTION:Nashville-based songstress Hollie Hammel — who has performed alongside artists including Brandi Carlile\, Hans Zimmer\, Lindsay Ell\, and many others — will kick off the night at 7 p.m. CT. \nShe will be followed at 8 p.m. CT by lo-fi pop artist Sally Duhon\, whose debut single “Cozi” discusses mental health and self-awarness. \nClosing out the night at 9 p.m. CT will be Fresh Lady\, a New York native and soul singer who has been performing professionally since the age of 14. \n$10 virtual and in-person | All Ages \nTICKETS
URL:https://umcworldwide.com/event/live-from-the-615-hollie-hammel-sally-duhon-and-fresh-lady/
LOCATION:Helping Our Music Evolve\, 615 Main St.\, Nashville\, TN\, 37206\, United States
CATEGORIES:concerts,Helping Our Music Evolve,Live from the 615,live shows,Live streams,Online performance,pop,Shows,soul
ATTACH;FMTTYPE=image/png:https://umcworldwide.com/wp-content/uploads/2021/05/May-15-graphic.png
ORGANIZER;CN="Live from the 615":MAILTO:live615productions@gmail.com
END:VEVENT
BEGIN:VEVENT
DTSTART;TZID=America/New_York:20210507T190000
DTEND;TZID=America/New_York:20210507T210000
DTSTAMP:20260421T154946
CREATED:20210503T180114Z
LAST-MODIFIED:20210503T180114Z
UID:112330-1620414000-1620421200@umcworldwide.com
SUMMARY:Live from the 615: Borrowed Sparks and Stray Nova
DESCRIPTION:Borrowed Sparks’ debut album\, The Prettiest One Left\, has been described as “a prime cut of American rock and roll.” The Nashville-based band will perform songs from the record\, as well as some soon-to-be-released material. \nJoining Borrowed Sparks will be Stray Nova\, a Tennessee-based trio whose brand of rock and roll includes a hint of blues and mischief. \nTICKETS: https://bit.ly/3vvTlka
URL:https://umcworldwide.com/event/live-from-the-615-borrowed-sparks-and-stray-nova/
LOCATION:TN
CATEGORIES:Helping Our Music Evolve,Live from the 615,Live streams,Online performance,rock,rock shows,Shows
ATTACH;FMTTYPE=image/png:https://umcworldwide.com/wp-content/uploads/2021/04/Stray-Nova-Borrowed-Sparks-May7.png
ORGANIZER;CN="Live from the 615":MAILTO:live615productions@gmail.com
END:VEVENT
BEGIN:VEVENT
DTSTART;TZID=America/New_York:20210501T190000
DTEND;TZID=America/New_York:20210501T210000
DTSTAMP:20260421T154946
CREATED:20210423T182647Z
LAST-MODIFIED:20210423T182647Z
UID:110186-1619895600-1619902800@umcworldwide.com
SUMMARY:Live from the 615: Casey Jo & The Friday Night Dads and TV Saints
DESCRIPTION:On Saturday\, May 1\, Live from the 615 will welcome Casey Jo & The Friday Night Dads. The four-piece will return to the Helping Our Music Evolve stage after joining us in January\, fresh off the heels of their 2020 album\, Twin Mind. If their previous performance is any indication\, you can expect a generous helping of raw\, Americana-infused rock and roll from this versatile quartet. \nJoining these Live from the 615 veterans — and making their first appearance on our stage — will be TV Saints. The Nashville-based\, New Jersey-bred rock outfit has been hard at work on new tunes throughout the pandemic\, combining influences like Queens of the Stone Age\, The Strokes\, and The Replacements to craft their new single\, “Easy\,” out now. “Easy” precedes TV Saints’ sophomore full-length album\, which is currently in production for an expected summertime release. \nTICKETS: https://stagepilot.live/livefromthe615/series/live-615
URL:https://umcworldwide.com/event/live-from-the-615-casey-jo-the-friday-night-dads-and-tv-saints/
LOCATION:Online
CATEGORIES:Helping Our Music Evolve,Live from the 615,Live streams,Online performance,rock,rock shows,Shows
ATTACH;FMTTYPE=image/png:https://umcworldwide.com/wp-content/uploads/2021/04/615-Admat-050121.png
ORGANIZER;CN="Live from the 615":MAILTO:live615productions@gmail.com
END:VEVENT
BEGIN:VEVENT
DTSTART;TZID=America/New_York:20210430T181500
DTEND;TZID=America/New_York:20210430T210000
DTSTAMP:20260421T154946
CREATED:20210413T030110Z
LAST-MODIFIED:20210413T030110Z
UID:108609-1619806500-1619816400@umcworldwide.com
SUMMARY:Best of Nashville Hip Hop
DESCRIPTION:A coalition of influential music communities will join forces to celebrate Music City’s rich hip hop culture\, with a live stream powered by Live from the 615. \nBest of Nashville Hip Hop will stream to Facebook Live on Friday\, April 30 at 6:15 p.m. CT. This unique broadcast will feature performances from 11 of Nashville’s most notable hip hop artists\, including Byron Juane\, Nate Rose\, Daisha McBride\, Chuck Indigo\, Jordan XX\, $hrames\, 2’Live Bre\, TriplePlay Squeek\, S-Wrap\, and Lord Goldie\, plus a special guest performance from Derek Minor\, who will perform emcee duties during the event. Each of these artists will be supported by live instrumentation from Muja. \nThe event will broadcast live from Helping Our Music Evolve in East Nashville\, with additional support from sponsors Guidance Whiskey and Sound Royalties\, as well as community partners including Underground Music Collective\, Nashville Is Not Just Country Music\, Reflection Music Group\, Third Eye & Co.\, 2 Ls On A Cloud\, and Do615. Admission is free\, and you can learn more and RSVP at this link.
URL:https://umcworldwide.com/event/best-of-nashville-hip-hop/
LOCATION:Online
CATEGORIES:Best of Nashville,Best of Nashville Hip Hop,Helping Our Music Evolve,hip hop,Live streams,Online performance,Shows
ATTACH;FMTTYPE=image/png:https://umcworldwide.com/wp-content/uploads/2021/04/image001.png
ORGANIZER;CN="Live from the 615":MAILTO:live615productions@gmail.com
END:VEVENT
BEGIN:VEVENT
DTSTART;TZID=America/New_York:20210425T180000
DTEND;TZID=America/New_York:20210425T193000
DTSTAMP:20260421T154946
CREATED:20210420T155844Z
LAST-MODIFIED:20210420T155844Z
UID:109573-1619373600-1619379000@umcworldwide.com
SUMMARY:Carrie Welling: "Good To Me" Video Release Show
DESCRIPTION:Join Carrie Welling with her band in celebrating the release of the “Good To Me” music video! \n\n\n\n\nGET TICKETS\n\n\n\n\nwww.carriewelling.com \nTicket types:\n$20 Standard ticket: Ticket & recording of the show \n$50 VIP M&G Ticket:  Group Meet and greet before the show\, ticket + recording of the show. \n$100 VIP M&G GTM Package:  Handmade Good To Me Candle\, group meet and greet before the show\, signed show poster by Carrie and all band members\, ticket & recording of the show. \nAll patrons who purchase a $50 or $100 VIP ticket will receive a free handmade GTM popsocket. (exclusive to patrons only – patreon.com/carriewelling) \nWhen you purchase a ticket\, a link will be emailed to you by ticketleap on your receipt. \nGroup Meet and Greet Details: The group meet and greet will be at 5:00 CST. If you purchase a VIP M & G ticket\, a separate link will be emailed near the show date with more details. \nEmail carriewellingbooking@gmail.com for any questions.
URL:https://umcworldwide.com/event/carrie-welling-good-to-me-video-release-show/
LOCATION:Online
CATEGORIES:Americana,Helping Our Music Evolve,Live streams,Online performance,Shows
ATTACH;FMTTYPE=image/jpeg:https://umcworldwide.com/wp-content/uploads/2021/04/FLYER-GTM-video-Premiere-show.jpg
ORGANIZER;CN="Live from the 615":MAILTO:live615productions@gmail.com
END:VEVENT
BEGIN:VEVENT
DTSTART;TZID=America/New_York:20210423T190000
DTEND;TZID=America/New_York:20210423T210000
DTSTAMP:20260421T154946
CREATED:20210411T213533Z
LAST-MODIFIED:20210420T155459Z
UID:108378-1619204400-1619211600@umcworldwide.com
SUMMARY:Live from the 615: Monte Mader\, Lombardy\, and The Night Shifts
DESCRIPTION:Fresh off the release of her latest single\, “Muddy River\,” rock and roll songstress Monte Mader brings her heartfelt songwriting and unique style and attitude to the Helping Our Music Evolve stage. \nJoining Monte on this special night of rock and roll with soul will be Lombardy. The Nashville-based four-piece are rising stars among Music City’s rock scene\, with their new single\, “Hurricane\,” hitting land this month. \nBrett “Shred” Landry is a native guitarist of the Oklahoma rock scene\, and his style reflects it. A versatile player grounded by a passion for hard rock and blues\, Shred has played for a number of touring Midwest bands since 2017. In addition to touring and recording with other bands\, he also started “Brett Landry and the Night Shifts” in 2018 and later on dropped “Brett Landry” out of the name. With his unyielding drive to become a legendary guitarist\, he brings a high-energy show every single time. As the man says himself\, “If I can’t play music then I’d rather be dead.” \nTICKETS: https://www.eventbrite.com/e/monte-mader-lombardy-and-the-night-shifts-tickets-150402011465
URL:https://umcworldwide.com/event/live-from-the-615-monte-mader-and-lombardy/
LOCATION:Online
CATEGORIES:Helping Our Music Evolve,Live streams,Online performance,Shows
ATTACH;FMTTYPE=image/png:https://umcworldwide.com/wp-content/uploads/2021/04/Apr.-23-thumbnail.png
ORGANIZER;CN="Live from the 615":MAILTO:live615productions@gmail.com
END:VEVENT
BEGIN:VEVENT
DTSTART;TZID=America/New_York:20210416T190000
DTEND;TZID=America/New_York:20210416T210000
DTSTAMP:20260421T154946
CREATED:20210411T024308Z
LAST-MODIFIED:20210411T024441Z
UID:108219-1618599600-1618606800@umcworldwide.com
SUMMARY:Live from the 615: The Reveal and The Blue Trees
DESCRIPTION:You never quite know what to expect when The Reveal comes to town. The three-piece blues rock and roll band consistently pushes past boundaries in their music\, incorporating elements of funk\, hip hop\, classic\, progressive and psychedelic styles. \nIt’s only appropriate\, then\, that they are joined on this Live from the 615 Virtual Showcase by The Blue Trees. Signed to Spectra Records\, the Southern groove rock band are no strangers to experimentation\, mixing funk\, pop\, and even electronica into their sound. \nTICKETS: https://www.eventbrite.com/e/the-reveal-and-the-blue-trees-tickets-149558350051
URL:https://umcworldwide.com/event/live-from-the-615-the-reveal-and-the-blue-trees/
LOCATION:Online
CATEGORIES:Helping Our Music Evolve,Live streams,Online performance,Shows
ATTACH;FMTTYPE=image/png:https://umcworldwide.com/wp-content/uploads/2021/04/Apr.-16-thumbnail.png
ORGANIZER;CN="Live from the 615":MAILTO:live615productions@gmail.com
END:VEVENT
BEGIN:VEVENT
DTSTART;TZID=America/New_York:20210411T190000
DTEND;TZID=America/New_York:20210411T210000
DTSTAMP:20260421T154946
CREATED:20210411T013326Z
LAST-MODIFIED:20210411T024541Z
UID:108208-1618167600-1618174800@umcworldwide.com
SUMMARY:Live from the 615: Forts Like Vana and Down Boy
DESCRIPTION:Fueled by chaos and reckless behavior\, Forts Like Vana is disrupting the rock scene with their raw attitudes and live sound. Their honest lyrics\, punching rhythms\, and loud guitar hooks are catching hearts and fans worldwide. \nJoining the bill are Down Boy\, the Nashville-based psychedelic funk-gospel trio whose 2020 album\, ‘…Let Go\,’ features popular tunes like “Can’t Help Myself” and “Under the Light.” \nTICKETS: https://www.eventbrite.com/e/forts-like-vana-and-down-boy-tickets-145613486859
URL:https://umcworldwide.com/event/live-from-the-615-forts-like-vana-and-down-boy/
LOCATION:Online
CATEGORIES:Helping Our Music Evolve,Live streams,Online performance,Shows
ATTACH;FMTTYPE=image/png:https://umcworldwide.com/wp-content/uploads/2021/04/Apr.-11-thumbnail-1.png
ORGANIZER;CN="Live from the 615":MAILTO:live615productions@gmail.com
END:VEVENT
BEGIN:VEVENT
DTSTART;TZID=America/New_York:20210402T190000
DTEND;TZID=America/New_York:20210402T213000
DTSTAMP:20260421T154946
CREATED:20210303T195507Z
LAST-MODIFIED:20210303T195507Z
UID:102257-1617390000-1617399000@umcworldwide.com
SUMMARY:Live from the 615 Presents: Amber DeLaCruz & Ross Coppley
DESCRIPTION:A little bit of sweet\, a little bit of backwoods: that’s how Florida native and country artist Amber DeLaCruz describes herself. DeLaCruz is known for adding a dash of soul to the modern country landscape\, influenced by artists including Susan Tedeschi\, Bonnie Raitt\, P!NK\, and Miranda Lambert. \nJoining Amber will be Ross Coppley\, the quintessential Southern boy known for his playful disposition\, lively stage shows\, and sizzling singles like “Rush” and “Til Summer Comes Along.”
URL:https://umcworldwide.com/event/live-from-the-615-presents-amber-delacruz-ross-coppley/
LOCATION:Online
CATEGORIES:Helping Our Music Evolve,Live streams,Online performance,Shows
ATTACH;FMTTYPE=image/png:https://umcworldwide.com/wp-content/uploads/2021/02/Apr.-2-thumbnail-e1614801174514.png
ORGANIZER;CN="Live from the 615":MAILTO:live615productions@gmail.com
END:VEVENT
BEGIN:VEVENT
DTSTART;TZID=America/New_York:20210319T193000
DTEND;TZID=America/New_York:20210319T213000
DTSTAMP:20260421T154946
CREATED:20210303T194443Z
LAST-MODIFIED:20210303T194950Z
UID:102252-1616182200-1616189400@umcworldwide.com
SUMMARY:Live from the 615 Presents: The Dirty Delusions and Year of October
DESCRIPTION:The Dirty Delusions are a high-energy garage rock band from Nashville\, TN. On Friday\, March 19\, they will broadcast live from Helping Our Music Evolve in East Nashville to celebrate the release of their brand-new\, full-length album. \nYear of October is a fuzzed out rock band from Nashville\, TN. They’ll bring their dirty riffs and dark grooves to the masses during this Live from the 615 performance!
URL:https://umcworldwide.com/event/live-from-the-615-presents-the-dirty-delusions-and-year-of-october/
LOCATION:Online
CATEGORIES:Helping Our Music Evolve,Live streams,Online performance,Shows
ATTACH;FMTTYPE=image/png:https://umcworldwide.com/wp-content/uploads/2021/03/Mar.-19-thumbnail-e1614800549456.png
ORGANIZER;CN="Live from the 615":MAILTO:live615productions@gmail.com
END:VEVENT
BEGIN:VEVENT
DTSTART;TZID=America/New_York:20210312T190000
DTEND;TZID=America/New_York:20210312T220000
DTSTAMP:20260421T154946
CREATED:20210303T193127Z
LAST-MODIFIED:20210303T193624Z
UID:102243-1615575600-1615586400@umcworldwide.com
SUMMARY:Nashville Songwriters Night: Timothy Myles\, Quinn O'Donnell\, and Natasha Blaine
DESCRIPTION:We’re going Live from the 615 with three of Nashville’s most outstanding songwriting talents\, including: \n\nTimothy Myles\, Chicago-raised ‘Rockicana’ songwriter exploring collaborations and communication in music.\nQuinn O’Donnell\, alt-rock songwriter known for her raw\, emotional performances.\nNatasha Blaine\, Seattle native whose jazz-influenced pop and R&B music captures a nostalgic\, vintage feel.
URL:https://umcworldwide.com/event/nashville-songwriters-night-timothy-myles-quinn-odonnell-and-natasha-blaine/
LOCATION:Online
CATEGORIES:Helping Our Music Evolve,Live streams,Online performance,Shows
ATTACH;FMTTYPE=image/png:https://umcworldwide.com/wp-content/uploads/2021/02/Mar.-12-thumbnail-1-e1614799738745.png
ORGANIZER;CN="Live from the 615":MAILTO:live615productions@gmail.com
END:VEVENT
END:VCALENDAR