BEGIN:VCALENDAR
VERSION:2.0
PRODID:-//Underground Music Collective - ECPv6.15.20//NONSGML v1.0//EN
CALSCALE:GREGORIAN
METHOD:PUBLISH
X-ORIGINAL-URL:https://umcworldwide.com
X-WR-CALDESC:Events for Underground Music Collective
REFRESH-INTERVAL;VALUE=DURATION:PT1H
X-Robots-Tag:noindex
X-PUBLISHED-TTL:PT1H
BEGIN:VTIMEZONE
TZID:America/New_York
BEGIN:DAYLIGHT
TZOFFSETFROM:-0500
TZOFFSETTO:-0400
TZNAME:EDT
DTSTART:20230312T070000
END:DAYLIGHT
BEGIN:STANDARD
TZOFFSETFROM:-0400
TZOFFSETTO:-0500
TZNAME:EST
DTSTART:20231105T060000
END:STANDARD
BEGIN:DAYLIGHT
TZOFFSETFROM:-0500
TZOFFSETTO:-0400
TZNAME:EDT
DTSTART:20240310T070000
END:DAYLIGHT
BEGIN:STANDARD
TZOFFSETFROM:-0400
TZOFFSETTO:-0500
TZNAME:EST
DTSTART:20241103T060000
END:STANDARD
BEGIN:DAYLIGHT
TZOFFSETFROM:-0500
TZOFFSETTO:-0400
TZNAME:EDT
DTSTART:20250309T070000
END:DAYLIGHT
BEGIN:STANDARD
TZOFFSETFROM:-0400
TZOFFSETTO:-0500
TZNAME:EST
DTSTART:20251102T060000
END:STANDARD
BEGIN:DAYLIGHT
TZOFFSETFROM:-0500
TZOFFSETTO:-0400
TZNAME:EDT
DTSTART:20260308T070000
END:DAYLIGHT
BEGIN:STANDARD
TZOFFSETFROM:-0400
TZOFFSETTO:-0500
TZNAME:EST
DTSTART:20261101T060000
END:STANDARD
END:VTIMEZONE
BEGIN:VEVENT
DTSTART;TZID=America/New_York:20250709T183000
DTEND;TZID=America/New_York:20250709T210000
DTSTAMP:20260423T070846
CREATED:20250625T184245Z
LAST-MODIFIED:20250625T184245Z
UID:145337-1752085800-1752094800@umcworldwide.com
SUMMARY:UnderDogs Across Borders Benefit Concert (Virtual/In-Person)
DESCRIPTION:2025 has been a breakthrough year so far for the entire Underground Music Collective community — and we’re here to make sure the magic lasts all year long (and beyond)! \nThat’s why we’re launching a new benefit concert series in support of our UnderDogs Across Borders campaign\, with the first event — a hybrid in-person and virtual concert emanating from Nashville — taking place Wednesday\, July 9 from 7-9 p.m. CT. \nWe’re taking you on a multi-genre thrill ride featuring four Nashville-based artists — including 2025 NEXT2RISE artist Nicolas Soul\, alt-pop songwriter Virtues\, R&B/soul singer and rapper Kfhox\, and hip hop artist Southside MAB. Joining them on the lineup — all the way from the Lehigh Valley Underground in Pennsylvania — will be rockers Powder Valley Bang (who have been gaining some serious steam up there lately). \nNeed a refresher on UnderDogs Across Borders? Through this capital campaign\, we aim to open the gateway to even greater collaboration. Your support bolsters UMC’s presence at major conferences and festivals in North America and Europe\, while helping us build a stronger\, more sustainable music industry that is ripe with fresh opportunities. \nOur groundbreaking first half of 2025 featured major conference appearances\, media opportunities\, and the official launch of our new UnderDogs virtual community. This has established Underground Music Collective as an international super-connector for independent musicians\, creative professionals\, and notable brands. \nHelp us continue to build toward an incredible future where Creators Have the Power. Make your donation and RSVP here\, and join us in Nashville or virtually (from anywhere!) on Wednesday\, July 9! \nLooking for an additional way to support UnderDogs Across Borders? Check out our GoFundMe campaign\, or become an UnderDog today!
URL:https://umcworldwide.com/event/underdogs-across-borders-benefit-concert-virtual-in-person/
LOCATION:Helping Our Music Evolve\, 615 Main St.\, Nashville\, TN\, 37206\, United States
CATEGORIES:benefit concert,Best of Nashville,concerts,hip hop,jazz,live shows,Live streams,Music Industry,Music Industry Education,Networking Events,Next2Rise,Online performance,pop,R&B,rock,rock shows,Shows,soul,UMC UnderDogs,UnderDogs community,Virtual Events
ATTACH;FMTTYPE=image/png:https://umcworldwide.com/wp-content/uploads/2025/06/UnderDogs-Across-Borders-July-9.png
END:VEVENT
BEGIN:VEVENT
DTSTART;TZID=America/New_York:20250515T173000
DTEND;TZID=America/New_York:20250515T190000
DTSTAMP:20260423T070846
CREATED:20250328T183039Z
LAST-MODIFIED:20250328T183039Z
UID:144291-1747330200-1747335600@umcworldwide.com
SUMMARY:Da' Healerz Present: The Heal Talk Experience
DESCRIPTION:HEALERZ! Come join us for The Heal Talk Experience at NECAT Network! This in-person event is a unique opportunity to connect with like-minded individuals\, learn from inspiring musicians\, and engage in meaningful discussions about healing and hardships. Whether you’re seeking for a safe space to be vulnerable or just want to engage in sound healing \, this event is perfect for you. Don’t miss out on this chance to be part of The Heal Talk Experience! It features music from Da’ Healerz\, a sound bath from Nikki Ray\, & a reading from Psychic Marita. We begin taping right at 6pm\, so get there no later than 5:45pm.
URL:https://umcworldwide.com/event/da-healerz-present-the-heal-talk-experience-2/
LOCATION:NECAT\, 120 White Bridge Pike\, Nashville\, TN\, United States
CATEGORIES:concerts,heal hop,hip hop,listening parties,live shows,Music Industry,Next2Rise,R&B,Shows,soul,UMC UnderDogs
ATTACH;FMTTYPE=image/png:https://umcworldwide.com/wp-content/uploads/2025/03/4-1.png
END:VEVENT
BEGIN:VEVENT
DTSTART;TZID=America/New_York:20250515T133000
DTEND;TZID=America/New_York:20250515T150000
DTSTAMP:20260423T070846
CREATED:20250328T182211Z
LAST-MODIFIED:20250328T182211Z
UID:144287-1747315800-1747321200@umcworldwide.com
SUMMARY:Da' Healerz Present: The Heal Talk (Student) Experience
DESCRIPTION:Students! Come join us for The Heal Talk Experience at NECAT Network! This in-person event is a unique opportunity to connect with like-minded individuals\, learn from inspiring musicians\, and engage in meaningful discussions about healing and hardships. Whether you’re seeking for a safe space to be vulnerable or just want to engage in sound healing \, this event is perfect for you. Don’t miss out on this chance to be part of The Heal Talk Experience! It features music from Da’ Healerz\, a sound bath from Nikki Ray\, & a reading from Psychic Marita. We begin taping right at 2pm\, so get there no later than 1:45pm.
URL:https://umcworldwide.com/event/da-healerz-present-the-heal-talk-student-experience/
LOCATION:NECAT\, 120 White Bridge Pike\, Nashville\, TN\, United States
CATEGORIES:concerts,Education,heal hop,hip hop,listening parties,live shows,Music Industry,Next2Rise,R&B,Seminars,Shows,soul,UMC UnderDogs
ATTACH;FMTTYPE=image/png:https://umcworldwide.com/wp-content/uploads/2025/03/3-1.png
END:VEVENT
BEGIN:VEVENT
DTSTART;TZID=America/New_York:20250419T200000
DTEND;TZID=America/New_York:20250420T000000
DTSTAMP:20260423T070846
CREATED:20250403T172031Z
LAST-MODIFIED:20250403T172031Z
UID:144408-1745092800-1745107200@umcworldwide.com
SUMMARY:NEXT2RISE Artist Spotlight: Yonna Jones at Vibe With Fo Nim
DESCRIPTION:NEXT2RISE Artist Yonna Jones joins a STACKED hip hop\, soul\, and R&B lineup in Murfreesboro.
URL:https://umcworldwide.com/event/next2rise-artist-spotlight-yonna-jones-at-vibe-with-fo-nim/
LOCATION:High Society\, 211 W. Main St.\, Murfreesboro\, TN\, United States
CATEGORIES:concerts,heal hop,hip hop,live shows,Music Industry,Next2Rise,R&B,Shows,soul,UMC UnderDogs,UnderDogs community
ATTACH;FMTTYPE=image/jpeg:https://umcworldwide.com/wp-content/uploads/2025/04/4F0B1709-1.jpg
END:VEVENT
BEGIN:VEVENT
DTSTART;TZID=America/New_York:20250417T183000
DTEND;TZID=America/New_York:20250417T213000
DTSTAMP:20260423T070846
CREATED:20250328T181349Z
LAST-MODIFIED:20250328T181349Z
UID:144282-1744914600-1744925400@umcworldwide.com
SUMMARY:NEXT2RISE Artist Spotlight: Amelia Ray Live at the Tracks (w/ Kathy Zhou)
DESCRIPTION:UMC NEXT2RISE Artist Ambassador Amelia Ray joins Kathy Zhou for the Central Station Hotel’s Live at the Tracks series. Enjoy craft cocktails and soulful songs from these award-winning musicians in downtown Memphis’s most stylish location.
URL:https://umcworldwide.com/event/next2rise-artist-spotlight-amelia-ray-live-at-the-tracks-w-kathy-zhou/
LOCATION:Central Station Hotel\, 545 Main St.\, Memphis\, TN\, United States
CATEGORIES:Americana,concerts,folk,live shows,Music Industry,Next2Rise,rock,Shows,UMC UnderDogs
ATTACH;FMTTYPE=image/png:https://umcworldwide.com/wp-content/uploads/2025/03/Amelia-Ray-and-Kathy-Zhou.png
END:VEVENT
BEGIN:VEVENT
DTSTART;TZID=America/New_York:20250413T170000
DTEND;TZID=America/New_York:20250413T190000
DTSTAMP:20260423T070846
CREATED:20250328T161953Z
LAST-MODIFIED:20250328T161953Z
UID:144274-1744563600-1744570800@umcworldwide.com
SUMMARY:NEXT2RISE Artist Spotlight: Amelia Ray at VinoRosso
DESCRIPTION:NEXT2RISE Artist Amelia Ray pops into the premiere Bernal Heights destination for fine Italian wine and antipasti to perform a very special\, intimate\, FREE show for friends and family. Don’t miss this one-of-a-kind experience.
URL:https://umcworldwide.com/event/next2rise-artist-spotlight-amelia-ray-at-vinorosso/
LOCATION:VinoRosso\, 629 Cortland Ave.\, San Francisco\, CA\, United States
CATEGORIES:Americana,concerts,folk,live shows,Music Industry,Next2Rise,rock,Shows,UMC Academy,UMC UnderDogs
ATTACH;FMTTYPE=image/jpeg:https://umcworldwide.com/wp-content/uploads/2025/03/Amelia-Ray-at-VinoRosso.jpg
END:VEVENT
BEGIN:VEVENT
DTSTART;TZID=America/New_York:20250406T163000
DTEND;TZID=America/New_York:20250406T183000
DTSTAMP:20260423T070846
CREATED:20250403T170305Z
LAST-MODIFIED:20250403T170305Z
UID:144402-1743957000-1743964200@umcworldwide.com
SUMMARY:Journalin' and Drummin'
DESCRIPTION:Join UMC NEXT2RISE Artist Jazzy the Uncontrolled Goddess for Journalin’ and Drummin’\, and immersive music and mindfulness experience.
URL:https://umcworldwide.com/event/journalin-and-drummin/
LOCATION:2131 26th Ave. N.\, 2131 26th Ave. N.\, Nashville\, TN\, United States
CATEGORIES:drum circle,mindfulness,Next2Rise,Seminars,Workshops
ATTACH;FMTTYPE=image/jpeg:https://umcworldwide.com/wp-content/uploads/2025/04/Journaling-and-Drumming-Solar-Plexus.jpg
END:VEVENT
BEGIN:VEVENT
DTSTART;TZID=America/New_York:20250405T130000
DTEND;TZID=America/New_York:20250405T190000
DTSTAMP:20260423T070846
CREATED:20250403T165914Z
LAST-MODIFIED:20250403T165914Z
UID:144397-1743858000-1743879600@umcworldwide.com
SUMMARY:NEXT2RISE Artist Spotlight: Jazzy the Uncontrolled Goddess at Clemmie G Community Day
DESCRIPTION:Join speaker\, author\, poet\, and 2025 NEXT2RISE Artist Jazzy the Uncontrolled Goddess at Clemmie G Community Day in Nashville (with special guest Project Pat).
URL:https://umcworldwide.com/event/next2rise-artist-spotlight-jazzy-the-uncontrolled-goddess-at-clemmie-g-community-day/
LOCATION:Hadley Park\, 28th Avenue N.\, Nashville\, TN\, United States
CATEGORIES:Next2Rise,Seminars,UMC UnderDogs,UnderDogs community,Workshops
ATTACH;FMTTYPE=image/jpeg:https://umcworldwide.com/wp-content/uploads/2025/04/IMG_2303.jpg
END:VEVENT
BEGIN:VEVENT
DTSTART;TZID=America/New_York:20240925T190000
DTEND;TZID=America/New_York:20240925T230000
DTSTAMP:20260423T070846
CREATED:20240822T203253Z
LAST-MODIFIED:20240920T182756Z
UID:140643-1727290800-1727305200@umcworldwide.com
SUMMARY:Next2Rise: Open Mic Edition
DESCRIPTION:Who is #Next2Rise?\n\n\n\nHow about YOU?!\n\n\n\nWe’re switching things up for the next installment of our Next2Rise series at Flavor 90s Bar (1526 Demonbreun St.\, Nashville) by giving YOU a chance to show us what you’ve got!\n\n\n\nCome on out on Wednesday\, Sept. 25 to play a few songs. Who knows? Maybe you’ll find yourself on an upcoming Next2Rise lineup…
URL:https://umcworldwide.com/event/next2rise-where-emerging-artists-rise-from-underground-2/
LOCATION:Flavor 90s Bar\, 1524 Demonbreun St.\, Nashville\, TN\, United States
CATEGORIES:concerts,Flavor 90s Bar,live shows,Music Industry,Next2Rise,rock shows,Shows
ATTACH;FMTTYPE=image/png:https://umcworldwide.com/wp-content/uploads/2024/08/Next2Rise-open-mic.png
END:VEVENT
END:VCALENDAR