BEGIN:VCALENDAR
VERSION:2.0
PRODID:-//Underground Music Collective - ECPv6.15.20//NONSGML v1.0//EN
CALSCALE:GREGORIAN
METHOD:PUBLISH
X-ORIGINAL-URL:https://umcworldwide.com
X-WR-CALDESC:Events for Underground Music Collective
REFRESH-INTERVAL;VALUE=DURATION:PT1H
X-Robots-Tag:noindex
X-PUBLISHED-TTL:PT1H
BEGIN:VTIMEZONE
TZID:America/New_York
BEGIN:DAYLIGHT
TZOFFSETFROM:-0500
TZOFFSETTO:-0400
TZNAME:EDT
DTSTART:20200308T070000
END:DAYLIGHT
BEGIN:STANDARD
TZOFFSETFROM:-0400
TZOFFSETTO:-0500
TZNAME:EST
DTSTART:20201101T060000
END:STANDARD
BEGIN:DAYLIGHT
TZOFFSETFROM:-0500
TZOFFSETTO:-0400
TZNAME:EDT
DTSTART:20210314T070000
END:DAYLIGHT
BEGIN:STANDARD
TZOFFSETFROM:-0400
TZOFFSETTO:-0500
TZNAME:EST
DTSTART:20211107T060000
END:STANDARD
BEGIN:DAYLIGHT
TZOFFSETFROM:-0500
TZOFFSETTO:-0400
TZNAME:EDT
DTSTART:20220313T070000
END:DAYLIGHT
BEGIN:STANDARD
TZOFFSETFROM:-0400
TZOFFSETTO:-0500
TZNAME:EST
DTSTART:20221106T060000
END:STANDARD
END:VTIMEZONE
BEGIN:VEVENT
DTSTART;TZID=America/New_York:20210916T210000
DTEND;TZID=America/New_York:20210917T003000
DTSTAMP:20260423T041256
CREATED:20210716T155805Z
LAST-MODIFIED:20210916T201706Z
UID:118050-1631826000-1631838600@umcworldwide.com
SUMMARY:Live from the 615 Presents: The Sewing Club\, Hippie Speedball\, and Juke of June
DESCRIPTION:On Thursday\, Sept. 16\, Live from the 615 will be back at The 5 Spot with The Sewing Club\, Hippie Speedball\, and Juke of June. \nThe Sewing Club comprises of Hannah McElroy (lead singer/writer)\, Stephen Meaux (Electric Guitar)\, Will Harris (Bass Guitar)\, Zach McCoy (drums) who all met during their time at Belmont University. The band is currently working towards releasing their debut EP this summer that is currently being recorded and produced by Jared Corder of Repeat Repeat*. Hannah’s steady and pure vocal delivery over the shifting and ever-changing musical layers gives a dreamy feel to this rock band. \nHippie Speedball has been described as a “make-you-move\, excite your eardrums kind of band” known for their high-energy performances and seasoned musicianship. The band consists of Dylan Taylor on vocals\, Daniel Demonico and Dennis Drummond on guitar and backing vocals\, Jon Von Boehm on bass\, and Kirby Bland on drums\, who combine their vast musical powers to deliver a thrilling night out for everyone in the room. \nJuke of June combines 70’s style rock\, surf rock\, blues\, soul\, and more\, with the goal of “connecting with people on a personal level through writing and creating as a cohesive unit.” The six-piece strives to create a new and unique musical experience for the listeners — and themselves — every time out.
URL:https://umcworldwide.com/event/live-from-the-615-presents-cage-king-hippie-speedball-and-juke-of-june/
LOCATION:The 5 Spot\, 1006 Forrest Ave.\, Nashville\, TN\, 37206\, United States
CATEGORIES:concerts,Live from the 615,live shows,pop,rock,rock shows,The 5 Spot
ATTACH;FMTTYPE=image/png:https://umcworldwide.com/wp-content/uploads/2021/07/Event-flyers-5.png
ORGANIZER;CN="Live from the 615":MAILTO:live615productions@gmail.com
END:VEVENT
BEGIN:VEVENT
DTSTART;TZID=America/New_York:20210818T190000
DTEND;TZID=America/New_York:20210818T230000
DTSTAMP:20260423T041256
CREATED:20210709T160109Z
LAST-MODIFIED:20210727T030144Z
UID:117824-1629313200-1629327600@umcworldwide.com
SUMMARY:Live from the 615 Presents: Dan Fuson\, New Suede\, A Tribe of Horsman\, and Down Boy
DESCRIPTION:On Wednesday\, August 18\, we’ll welcome Dan Fuson\, New Suede\, A Tribe of Horsman\, and Down Boy into the heart of East Nashville. \nIt’s been a big year for Dan Fuson. Not only did he absolutely slay a Live from the 615 virtual performance earlier this spring\, but before that\, he released an EP\, Young + Improving\, which pushed musical boundaries and cemented him as one of the most versatile pop rock artists in all of Nashville. \nNew Suede consists of Chandler Mills Brown\, Elijah Perron\, Alex Ramsay\, and Matt MacPhail. The Murfreesboro-based rock and roll band are veterans of the Nashville rock scene\, and have had a nice amount of streaming success — their single\, “Taxi\,” has accrued more than 20\,000 Spotify streams to date. \nA Tribe of Horsman recently participated in a spirited edition of UMC Fun -N- Games. Fronted by Dhalton Horsman\, the trio also features Sean van Rossum (bass) and Aaron Hopkins (drums). Together\, they’re working on their debut record\, which we might hear a bit of riiiiight around the time of this show. \nAnd then\, there’s Down Boy. They’re also Fun -N- Games alums\, and they just released a sick new video for their song\, “Traction\,” which has already amassed more than 1\,000 views. To top it off\, they’re one of the tightest trios you’ll ever hear play live. Prepare to be amazed!
URL:https://umcworldwide.com/event/live-from-the-615-presents-new-suede-a-tribe-of-horsman-and-down-boy/
LOCATION:The East Room\, 2412 Gallatin Ave.\, Nashville\, TN\, United States
CATEGORIES:concerts,Live from the 615,live shows,rock,rock shows,Shows,The East Room
ATTACH;FMTTYPE=image/png:https://umcworldwide.com/wp-content/uploads/2021/07/Event-flyers-4.png
ORGANIZER;CN="Live from the 615":MAILTO:live615productions@gmail.com
END:VEVENT
BEGIN:VEVENT
DTSTART;TZID=America/New_York:20210729T190000
DTEND;TZID=America/New_York:20210729T233000
DTSTAMP:20260423T041256
CREATED:20210720T000422Z
LAST-MODIFIED:20210720T000422Z
UID:118119-1627585200-1627601400@umcworldwide.com
SUMMARY:Live from the 615 Presents: Timothy Myles\, Natasha Blaine\, and SHELBYY
DESCRIPTION:We’ll be returning to The East Room (2412 Gallatin Ave.\, Nashville) on Thursday\, July 29 with a fun bill offering many different shades of pop. Joining us to complete this endeavor are the super talents of Nashville locals Timothy Myles\, Natasha Blaine\, and SHELBYY \nA Chicagoland native\, Timothy Myles kicked off the ticketed era of Live from the 615 shows\, back when our world was entirely virtual. His EP\, Songs of Hope from Sorrow\, was recorded live at Battery Lane Music in East Nashville\, and released in full this spring. An engaging performer and songsmith\, Myles’ performance will serve as a warm welcome to The East Room! \nSpeaking of that show back in March\, Natasha Blaine also crushed it that night. Since then\, she’s released her new EP\, titled I Fall in Love Too Easily\, which has only helped her brand of jazz-pop catch fire here in Nashville — and everywhere else! \nSHELBYY is a modern pop-punk/rock artists from Los Angeles\, currently residing in Nashville. Her new single\, “LOUD\,” is the quintessential post-COVID anthem\, and a sign of the fun\, edgy material she has coming down the pipeline. She’ll surely bring that same energy to the table when she joins us in East Nashville!
URL:https://umcworldwide.com/event/live-from-the-615-presents-timothy-myles-natasha-blaine-and-shelbyy/
LOCATION:The East Room\, 2412 Gallatin Ave.\, Nashville\, TN\, United States
CATEGORIES:concerts,jazz,Live from the 615,live shows,pop,rock,rock shows,Shows,soul,The East Room
ATTACH;FMTTYPE=image/png:https://umcworldwide.com/wp-content/uploads/2021/07/Event-flyers-1.png
ORGANIZER;CN="Live from the 615":MAILTO:live615productions@gmail.com
END:VEVENT
BEGIN:VEVENT
DTSTART;TZID=America/New_York:20210710T210000
DTEND;TZID=America/New_York:20210711T003000
DTSTAMP:20260423T041256
CREATED:20210617T165221Z
LAST-MODIFIED:20210617T165221Z
UID:117296-1625950800-1625963400@umcworldwide.com
SUMMARY:Live from the 615 Presents: Borrowed Sparks\, The Garden of Eden\, and The Dirty Delusions at The 5 Spot
DESCRIPTION:We’ll be at The 5 Spot (1006 Forrest Ave.\, Nashville) on Saturday\, July 10. Joining us will be a trio of red-hot Nashville-based rock acts — Borrowed Sparks\, The Garden of Eden\, and The Dirty Delusions. \nYou may remember that Borrowed Sparks joined us for a couple of live streams earlier this year\, with the most recent being a show on May 7 with Stray Nova. This is a chance to hear their prime cuts of American rock & roll live and in-person during a lively set that will feature tunes from their debut EP\, The Prettiest One Left\, available now digitally and on vinyl. \nFronted by songsmith Scotty Chapman\, The Garden of Eden is a consistent presence on the East Nashville rock scene\, even releasing a live EP from The East Room last year. \nThe Dirty Delusions celebrated the release of their new album\, Too Young for Love\, on a Live from the 615 stream back in March. This is your chance to catch them up close and personal with us!
URL:https://umcworldwide.com/event/live-from-the-615-presents-borrowed-sparks-the-garden-of-eden-and-the-dirty-delusions-at-the-5-spot/
LOCATION:The 5 Spot\, 1006 Forrest Ave.\, Nashville\, TN\, 37206\, United States
CATEGORIES:concerts,Live from the 615,live shows,rock,rock shows,Shows
ATTACH;FMTTYPE=image/png:https://umcworldwide.com/wp-content/uploads/2021/06/Event-flyers-3.png
ORGANIZER;CN="Live from the 615":MAILTO:live615productions@gmail.com
END:VEVENT
BEGIN:VEVENT
DTSTART;TZID=America/New_York:20210527T190000
DTEND;TZID=America/New_York:20210527T230000
DTSTAMP:20260423T041256
CREATED:20210505T050005Z
LAST-MODIFIED:20210504T203512Z
UID:112817-1622142000-1622156400@umcworldwide.com
SUMMARY:Live from the 615 Presents: Lombardy\, The Sewing Club\, and Forts Like Vana
DESCRIPTION:With the next stage of Nashville’s reopening now imminent\, we’re branching Live from the 615 outside of the cozy confines of HOME and into the world! \nOn Thursday\, May 27\, we’ll be at The East Room (2412 Gallatin Ave. in Nashville)\, where we will present a night of glorious indie rock and roll! Joining us in this endeavor will be Music City Mayhem finalists Lombardy. They will be joined by their fellow tournament contestants The Sewing Club\, as well as Forts Like Vana\, who have gained a local reputation for their high-energy live performances. \n18+ | $10 at the door\nMasks required
URL:https://umcworldwide.com/event/live-from-the-615-presents-lombardy-the-sewing-club-and-forts-like-vana/
LOCATION:The East Room\, 2412 Gallatin Ave.\, Nashville\, TN\, United States
CATEGORIES:Live from the 615,live shows,rock,rock shows,Shows
ATTACH;FMTTYPE=image/png:https://umcworldwide.com/wp-content/uploads/2021/05/May-27-flyer.png
ORGANIZER;CN="Live from the 615":MAILTO:live615productions@gmail.com
END:VEVENT
BEGIN:VEVENT
DTSTART;TZID=America/New_York:20210521T190000
DTEND;TZID=America/New_York:20210521T210000
DTSTAMP:20260423T041256
CREATED:20210513T140026Z
LAST-MODIFIED:20210513T143058Z
UID:115366-1621623600-1621630800@umcworldwide.com
SUMMARY:Live from the 615 Presents: Dan Fuson and Echo Pilot
DESCRIPTION:At Live from the 615\, we have ourselves a wide range of rock ready to go on Friday\, May 21. \nThat evening\, the action will start at 7 p.m. CT with Dan Fuson. The Nashville-based pop rock songwriter just released a new EP\, Young + Improving\, which reaches into the pop realm while maintaining an honest alt-rock edge. On May 21\, Dan will bring these honest songs to life in front of the Live from the 615 audience. \nThen at 8 p.m. CT\, things get heavy! Nashville hard rock quartet Echo Pilot will check in\, as they celebrate the release of their single\, “Long Time Coming\,” which is due out the same day! And\, if their current singles “Harry Houdini” and “Field Day” are any indication\, we can expect their entire performance to pack an eclectic punch! \n$10 virtual and in-person | All Ages \nTICKETS
URL:https://umcworldwide.com/event/live-from-the-615-presents-dan-fuson-and-echo-pilot/
LOCATION:Helping Our Music Evolve\, 615 Main St.\, Nashville\, TN\, 37206\, United States
CATEGORIES:concerts,Helping Our Music Evolve,Live from the 615,live shows,Live streams,Online performance,rock,rock shows,Shows
ATTACH;FMTTYPE=image/png:https://umcworldwide.com/wp-content/uploads/2021/05/Dan-Fuson-and-Echo-Pilot.png
ORGANIZER;CN="Live from the 615":MAILTO:live615productions@gmail.com
END:VEVENT
BEGIN:VEVENT
DTSTART;TZID=America/New_York:20210516T190000
DTEND;TZID=America/New_York:20210516T210000
DTSTAMP:20260423T041256
CREATED:20210512T190620Z
LAST-MODIFIED:20210512T190620Z
UID:115379-1621191600-1621198800@umcworldwide.com
SUMMARY:Live from the 615: King Locomotive and Beyond Here
DESCRIPTION:Sunday\, May 16: Three parts of Detroit muscle\, one part New York soul: that’s how to best describe King Locomotive\, a tip of the hat to all things rock\, who kick things off at 7 p.m. CT. \nJoining them on the bill is Beyond Here (8 p.m. CT)\, a Nashville-based alternative rock band whose single “Go There” was premiered in August 2020 by Nashville radio station 102.9 The Buzz. \n$10 virtual and in-person | All ages \nTICKETS
URL:https://umcworldwide.com/event/live-from-the-615-king-locomotive-and-beyond-here/
LOCATION:Helping Our Music Evolve\, 615 Main St.\, Nashville\, TN\, 37206\, United States
CATEGORIES:concerts,Helping Our Music Evolve,Live from the 615,live shows,Live streams,Online performance,rock,rock shows,Shows
ATTACH;FMTTYPE=image/png:https://umcworldwide.com/wp-content/uploads/2021/05/King-Locomotive-and-Beyond-Here-1.png
ORGANIZER;CN="Live from the 615":MAILTO:live615productions@gmail.com
END:VEVENT
BEGIN:VEVENT
DTSTART;TZID=America/New_York:20210507T190000
DTEND;TZID=America/New_York:20210507T210000
DTSTAMP:20260423T041256
CREATED:20210503T180114Z
LAST-MODIFIED:20210503T180114Z
UID:112330-1620414000-1620421200@umcworldwide.com
SUMMARY:Live from the 615: Borrowed Sparks and Stray Nova
DESCRIPTION:Borrowed Sparks’ debut album\, The Prettiest One Left\, has been described as “a prime cut of American rock and roll.” The Nashville-based band will perform songs from the record\, as well as some soon-to-be-released material. \nJoining Borrowed Sparks will be Stray Nova\, a Tennessee-based trio whose brand of rock and roll includes a hint of blues and mischief. \nTICKETS: https://bit.ly/3vvTlka
URL:https://umcworldwide.com/event/live-from-the-615-borrowed-sparks-and-stray-nova/
LOCATION:TN
CATEGORIES:Helping Our Music Evolve,Live from the 615,Live streams,Online performance,rock,rock shows,Shows
ATTACH;FMTTYPE=image/png:https://umcworldwide.com/wp-content/uploads/2021/04/Stray-Nova-Borrowed-Sparks-May7.png
ORGANIZER;CN="Live from the 615":MAILTO:live615productions@gmail.com
END:VEVENT
BEGIN:VEVENT
DTSTART;TZID=America/New_York:20210501T190000
DTEND;TZID=America/New_York:20210501T210000
DTSTAMP:20260423T041256
CREATED:20210423T182647Z
LAST-MODIFIED:20210423T182647Z
UID:110186-1619895600-1619902800@umcworldwide.com
SUMMARY:Live from the 615: Casey Jo & The Friday Night Dads and TV Saints
DESCRIPTION:On Saturday\, May 1\, Live from the 615 will welcome Casey Jo & The Friday Night Dads. The four-piece will return to the Helping Our Music Evolve stage after joining us in January\, fresh off the heels of their 2020 album\, Twin Mind. If their previous performance is any indication\, you can expect a generous helping of raw\, Americana-infused rock and roll from this versatile quartet. \nJoining these Live from the 615 veterans — and making their first appearance on our stage — will be TV Saints. The Nashville-based\, New Jersey-bred rock outfit has been hard at work on new tunes throughout the pandemic\, combining influences like Queens of the Stone Age\, The Strokes\, and The Replacements to craft their new single\, “Easy\,” out now. “Easy” precedes TV Saints’ sophomore full-length album\, which is currently in production for an expected summertime release. \nTICKETS: https://stagepilot.live/livefromthe615/series/live-615
URL:https://umcworldwide.com/event/live-from-the-615-casey-jo-the-friday-night-dads-and-tv-saints/
LOCATION:Online
CATEGORIES:Helping Our Music Evolve,Live from the 615,Live streams,Online performance,rock,rock shows,Shows
ATTACH;FMTTYPE=image/png:https://umcworldwide.com/wp-content/uploads/2021/04/615-Admat-050121.png
ORGANIZER;CN="Live from the 615":MAILTO:live615productions@gmail.com
END:VEVENT
END:VCALENDAR