BEGIN:VCALENDAR
VERSION:2.0
PRODID:-//Underground Music Collective - ECPv6.15.20//NONSGML v1.0//EN
CALSCALE:GREGORIAN
METHOD:PUBLISH
X-WR-CALNAME:Underground Music Collective
X-ORIGINAL-URL:https://umcworldwide.com
X-WR-CALDESC:Events for Underground Music Collective
REFRESH-INTERVAL;VALUE=DURATION:PT1H
X-Robots-Tag:noindex
X-PUBLISHED-TTL:PT1H
BEGIN:VTIMEZONE
TZID:America/New_York
BEGIN:DAYLIGHT
TZOFFSETFROM:-0500
TZOFFSETTO:-0400
TZNAME:EDT
DTSTART:20210314T070000
END:DAYLIGHT
BEGIN:STANDARD
TZOFFSETFROM:-0400
TZOFFSETTO:-0500
TZNAME:EST
DTSTART:20211107T060000
END:STANDARD
BEGIN:DAYLIGHT
TZOFFSETFROM:-0500
TZOFFSETTO:-0400
TZNAME:EDT
DTSTART:20220313T070000
END:DAYLIGHT
BEGIN:STANDARD
TZOFFSETFROM:-0400
TZOFFSETTO:-0500
TZNAME:EST
DTSTART:20221106T060000
END:STANDARD
BEGIN:DAYLIGHT
TZOFFSETFROM:-0500
TZOFFSETTO:-0400
TZNAME:EDT
DTSTART:20230312T070000
END:DAYLIGHT
BEGIN:STANDARD
TZOFFSETFROM:-0400
TZOFFSETTO:-0500
TZNAME:EST
DTSTART:20231105T060000
END:STANDARD
END:VTIMEZONE
BEGIN:VEVENT
DTSTART;TZID=America/New_York:20220226T200000
DTEND;TZID=America/New_York:20220227T000000
DTSTAMP:20260425T213553
CREATED:20220124T190700Z
LAST-MODIFIED:20220214T185839Z
UID:122490-1645905600-1645920000@umcworldwide.com
SUMMARY:NashLive! x #PopRocks: Jon Pattie\, Natasha Blaine\, and TROY
DESCRIPTION:We — as in\, NashLive! — are teaming up with #PopRocks founder Jon Pattie to bring you a night of community\, musicianship\, and storytelling. It takes place on Saturday\, February 26\, and will be the first NashLive! event ever to take place at Springwater Supper Club (115 27th Ave. N.\, Nashville). \nAs for the lineup? Jon will be opening the night once again. We’re also thrilled to be re-joined by two NashLive! alums in Natasha Blaine and TROY. \nWhen we last checked in with Natasha Blaine\, we were at The East Room back in July. Since then\, she has released her latest single\, “Paris Again\,” and has continued to light up Nashville with her soulful live performances. \nAnd! Speaking of soul\, TROY brought his captivating pop rock storytelling and showmanship to The East Room back in October\, as part of the first-ever 615Fest. Since then\, he’s released a couple of acoustic singles\, with more fun sure to come throughout 2022. \nTickets for this NashLive! and #PopRocks collaboration are on sale now for just $10\, and will also be available at the door. Music starts at 8 p.m.\, and you need to be 21 or older to come part
URL:https://umcworldwide.com/event/nashlive-x-poprocks-jon-pattie-natasha-blaine-and-troy/
LOCATION:Springwater Supper Club\, 115 27th Ave. N.\, Nashville\, TN\, United States
CATEGORIES:jazz,live shows,pop,R&B,rock,rock shows,Shows,soul,Springwater Supper Club
ATTACH;FMTTYPE=image/png:https://umcworldwide.com/wp-content/uploads/2022/01/Graphic-2.26.png
END:VEVENT
END:VCALENDAR