BEGIN:VCALENDAR
VERSION:2.0
PRODID:-//Underground Music Collective - ECPv6.15.20//NONSGML v1.0//EN
CALSCALE:GREGORIAN
METHOD:PUBLISH
X-ORIGINAL-URL:https://umcworldwide.com
X-WR-CALDESC:Events for Underground Music Collective
REFRESH-INTERVAL;VALUE=DURATION:PT1H
X-Robots-Tag:noindex
X-PUBLISHED-TTL:PT1H
BEGIN:VTIMEZONE
TZID:America/New_York
BEGIN:DAYLIGHT
TZOFFSETFROM:-0500
TZOFFSETTO:-0400
TZNAME:EDT
DTSTART:20220313T070000
END:DAYLIGHT
BEGIN:STANDARD
TZOFFSETFROM:-0400
TZOFFSETTO:-0500
TZNAME:EST
DTSTART:20221106T060000
END:STANDARD
BEGIN:DAYLIGHT
TZOFFSETFROM:-0500
TZOFFSETTO:-0400
TZNAME:EDT
DTSTART:20230312T070000
END:DAYLIGHT
BEGIN:STANDARD
TZOFFSETFROM:-0400
TZOFFSETTO:-0500
TZNAME:EST
DTSTART:20231105T060000
END:STANDARD
BEGIN:DAYLIGHT
TZOFFSETFROM:-0500
TZOFFSETTO:-0400
TZNAME:EDT
DTSTART:20240310T070000
END:DAYLIGHT
BEGIN:STANDARD
TZOFFSETFROM:-0400
TZOFFSETTO:-0500
TZNAME:EST
DTSTART:20241103T060000
END:STANDARD
END:VTIMEZONE
BEGIN:VEVENT
DTSTART;TZID=America/New_York:20230310T180000
DTEND;TZID=America/New_York:20230310T220000
DTSTAMP:20260420T183511
CREATED:20230301T222938Z
LAST-MODIFIED:20230301T225940Z
UID:131868-1678471200-1678485600@umcworldwide.com
SUMMARY:NashLive! Presents: Holistic Hangs II
DESCRIPTION:March 10 is Underground Music Collective/NashLive! Founder Gerard Longo’s birthday. To celebrate\, we’re throwing a laid-back songwriter’s hang and networking event\, all in support of UMC! \nJoin us on Friday\, March 10 at The Holistic Connection’s Studio H Event Space (1708 Gallatin Pike N\, Madison\, TN). We’ll be joined for special acoustic performances by… \n\nBrianna Bollinger\nFoundation Mecca\nJoanna Borne\nKfhox\nMel\n\nTICKETS
URL:https://umcworldwide.com/event/nashlive-presents-holistic-hangs-ii/
LOCATION:Studio H Event Space\, 1708 Gallatin Pike North\, Nashville\, TN\, United States
CATEGORIES:concerts,hip hop,jazz,NashLive!,Networking Events,pop,rock,Shows,Studio H Event Space,The Holistic Connection
ATTACH;FMTTYPE=image/png:https://umcworldwide.com/wp-content/uploads/2023/03/NashLive-Feb-10-v2-3.png
END:VEVENT
END:VCALENDAR