BEGIN:VCALENDAR
VERSION:2.0
PRODID:-//Underground Music Collective - ECPv6.15.20//NONSGML v1.0//EN
CALSCALE:GREGORIAN
METHOD:PUBLISH
X-ORIGINAL-URL:https://umcworldwide.com
X-WR-CALDESC:Events for Underground Music Collective
REFRESH-INTERVAL;VALUE=DURATION:PT1H
X-Robots-Tag:noindex
X-PUBLISHED-TTL:PT1H
BEGIN:VTIMEZONE
TZID:America/New_York
BEGIN:DAYLIGHT
TZOFFSETFROM:-0500
TZOFFSETTO:-0400
TZNAME:EDT
DTSTART:20220313T070000
END:DAYLIGHT
BEGIN:STANDARD
TZOFFSETFROM:-0400
TZOFFSETTO:-0500
TZNAME:EST
DTSTART:20221106T060000
END:STANDARD
BEGIN:DAYLIGHT
TZOFFSETFROM:-0500
TZOFFSETTO:-0400
TZNAME:EDT
DTSTART:20230312T070000
END:DAYLIGHT
BEGIN:STANDARD
TZOFFSETFROM:-0400
TZOFFSETTO:-0500
TZNAME:EST
DTSTART:20231105T060000
END:STANDARD
BEGIN:DAYLIGHT
TZOFFSETFROM:-0500
TZOFFSETTO:-0400
TZNAME:EDT
DTSTART:20240310T070000
END:DAYLIGHT
BEGIN:STANDARD
TZOFFSETFROM:-0400
TZOFFSETTO:-0500
TZNAME:EST
DTSTART:20241103T060000
END:STANDARD
END:VTIMEZONE
BEGIN:VEVENT
DTSTART;TZID=America/New_York:20231008T110000
DTEND;TZID=America/New_York:20231008T120000
DTSTAMP:20260419T122959
CREATED:20230927T201629Z
LAST-MODIFIED:20230927T201812Z
UID:135640-1696762800-1696766400@umcworldwide.com
SUMMARY:Virtual Coffee Chat Vol. 1: Meet Your Community
DESCRIPTION:Our community of Empowered Change Makers is ready to meet you! Join us for our first-ever Virtual Coffee Chat on Sunday\, October 8. We’ll introduce ourselves\, share some exciting news and ideas pertaining to the Collective\, and come away with new connections as we look to build our community together! \nThis is a members-only event. Apply to join ECM Collective here: https://tinyurl.com/4rvr8wct
URL:https://umcworldwide.com/event/virtual-coffee-chat-oct-8/
LOCATION:Online (Members Only)
CATEGORIES:Networking Events,Virtual Coffee Chat,Virtual Events
ATTACH;FMTTYPE=image/png:https://umcworldwide.com/wp-content/uploads/2023/09/Virtual-Coffee-Chat-Vol-1.png
END:VEVENT
END:VCALENDAR