BEGIN:VCALENDAR
VERSION:2.0
PRODID:-//Underground Music Collective - ECPv6.15.20//NONSGML v1.0//EN
CALSCALE:GREGORIAN
METHOD:PUBLISH
X-ORIGINAL-URL:https://umcworldwide.com
X-WR-CALDESC:Events for Underground Music Collective
REFRESH-INTERVAL;VALUE=DURATION:PT1H
X-Robots-Tag:noindex
X-PUBLISHED-TTL:PT1H
BEGIN:VTIMEZONE
TZID:America/New_York
BEGIN:DAYLIGHT
TZOFFSETFROM:-0500
TZOFFSETTO:-0400
TZNAME:EDT
DTSTART:20220313T070000
END:DAYLIGHT
BEGIN:STANDARD
TZOFFSETFROM:-0400
TZOFFSETTO:-0500
TZNAME:EST
DTSTART:20221106T060000
END:STANDARD
BEGIN:DAYLIGHT
TZOFFSETFROM:-0500
TZOFFSETTO:-0400
TZNAME:EDT
DTSTART:20230312T070000
END:DAYLIGHT
BEGIN:STANDARD
TZOFFSETFROM:-0400
TZOFFSETTO:-0500
TZNAME:EST
DTSTART:20231105T060000
END:STANDARD
BEGIN:DAYLIGHT
TZOFFSETFROM:-0500
TZOFFSETTO:-0400
TZNAME:EDT
DTSTART:20240310T070000
END:DAYLIGHT
BEGIN:STANDARD
TZOFFSETFROM:-0400
TZOFFSETTO:-0500
TZNAME:EST
DTSTART:20241103T060000
END:STANDARD
END:VTIMEZONE
BEGIN:VEVENT
DTSTART;TZID=America/New_York:20230308T180000
DTEND;TZID=America/New_York:20230308T190000
DTSTAMP:20260419T122954
CREATED:20230301T211853Z
LAST-MODIFIED:20230301T211853Z
UID:131863-1678298400-1678302000@umcworldwide.com
SUMMARY:Virtual Panel: Succeeding as a Woman in the Music Industry
DESCRIPTION:Join us on Wednesday\, March 8 (International Women’s Day) for ‘Succeeding as a Woman in the Music Industry.’ Our panel of female entrepreneurs will share their experiences navigating the music industry\, the challenges they’ve faced and overcome\, and the lessons they’ve learned. \nPanelists include: \nAndromeda Turre\, Performer\, composer\, songwriter\, curator\, and founder and host of radio show Growing up Jazz (Saturday Night Live\, Tokyo Disney\, Michael Bublé’s 2021 Christmas Special\, SiriusXM). \nUrsula Langford\, Entertainment attorney\, producer\, director\, creator of film and television\, and principal of production company Focality Productions.  \nShySpeaks\, Grammy Award-winning independent hip-hop and spoken word artist and co-host of the Minding My Creative Business podcast (The Indie Post\, Good Morning Texas\, Dallas Weekly).  \nErin McLendon\, Nashville-based singer and songwriter with a bachelor’s degree in music from Belmont\, and owner and co-founder of Music on the Move Studios.  \nREGISTER FOR FREE
URL:https://umcworldwide.com/event/virtual-panel-succeeding-as-a-woman-in-the-music-industry/
LOCATION:Online
CATEGORIES:Music Industry Education,Virtual Events,Virtual Panels
ATTACH;FMTTYPE=image/png:https://umcworldwide.com/wp-content/uploads/2023/02/Succeeding-as-a-Woman-in-the-Music-Industry-3-1.png
END:VEVENT
BEGIN:VEVENT
DTSTART;TZID=America/New_York:20230215T180000
DTEND;TZID=America/New_York:20230215T190000
DTSTAMP:20260419T122954
CREATED:20230125T213508Z
LAST-MODIFIED:20230125T213508Z
UID:131374-1676484000-1676487600@umcworldwide.com
SUMMARY:Virtual Panel: Succeeding as a Black Entrepreneur in the Music Industry
DESCRIPTION:We invite you to join us from anywhere on Earth on Wednesday\, February 15 at 6 p.m. CT\, as we present Succeeding as an Entrepreneur in the Music Industry. This virtual panel discussion will give multi-disciplinary music industry veterans a chance to share their experiences navigating the industry as a Black creative\, the challenges they’ve encountered and overcome\, and the lessons they have learned along the way. \n“One of the first discussions our team had in determining programming for the New Year was how we can invite members of our community to share their experiences in the music industry\,” Said Gerard Longo\, Founder and CEO of Underground Music Collective. “For Black History Month\, we are inviting key industry leaders from our community to share their perspectives\, in the hope of creating a broader dialogue.” \nSucceeding as a Black Entrepreneur in the Music Industry will be moderated by Brandi Sims\, CEO of Brandinc PR. A full list of confirmed panelists will be announced shortly. \nInterested guests can RSVP and attend via Eventbrite. Attendees will have the opportunity to submit questions to the panelists\, and will also be encouraged to make a tax-deductible donation to Underground Music Collective\, via our fiscal sponsorship from the Arts & Business Council of Greater Nashville.
URL:https://umcworldwide.com/event/virtual-panel-succeeding-as-a-black-entrepreneur-in-the-music-industry/
LOCATION:Online
CATEGORIES:Music Industry Education,Virtual Events,Virtual Panels
ATTACH;FMTTYPE=image/png:https://umcworldwide.com/wp-content/uploads/2023/01/298691483_488418883289886_8487860002915642623_n-2.png
END:VEVENT
END:VCALENDAR